View In:
ArcGIS JavaScript
ArcGIS Online Map Viewer
ArcGIS Earth
Service Description: This dataset was developed as part of the Urban Tree Canopy (UTC) Assessment for Virginia Beach, VA. As such, it represents a "top down" mapping perspective. This layer is a high-resolution land-cover dataset for Virginia Beach, Virginia. Nine land-cover classes were mapped: (1) tree canopy, (2) grass/shrub, (3) bare earth, (4) water, (5) buildings, (6) roads; (7) other paved surfaces; (8) forested wetlands; and (9) non-forested wetlands. The primary sources used to derive this land cover layer were 2012 LiDAR and 2013 3-band orthoimagery. Ancillary data sources included GIS data provided by Virginia Beach (e.g., county boundary, building footprints, water, parking lots, roads, utility poles, bridges, airfields) or developed by the UVM Spatial Analysis Laboratory (bare soils, utility lines, modified National Wetland Inventory wetlands polygons). This land cover dataset is considered current as of 2012. Object-based image analysis (OBIA) was used to extract land-cover information using the best available remotely-sensed and vector GIS datasets. OBIA systems work by grouping pixels into meaningful objects based on their spectral and spatial properties, while taking into account boundaries imposed by existing vector datasets. Within the OBIA environment, a rule-based expert system was designed to effectively mimic the process of manual image analysis by incorporating the elements of image interpretation (color/tone, texture, pattern, location, size, and shape) into the classification process. A series of morphological procedures were used to ensure that the end product is both accurate and cartographically pleasing. No accuracy assessment was conducted, but the dataset was subjected to thorough manual quality control. More than 50,000 corrections were made to the classification
Name: Land_Cover/Land_Cover_2012
Description: This dataset was developed as part of the Urban Tree Canopy (UTC) Assessment for Virginia Beach, VA. As such, it represents a "top down" mapping perspective. This layer is a high-resolution land-cover dataset for Virginia Beach, Virginia. Nine land-cover classes were mapped: (1) tree canopy, (2) grass/shrub, (3) bare earth, (4) water, (5) buildings, (6) roads; (7) other paved surfaces; (8) forested wetlands; and (9) non-forested wetlands. The primary sources used to derive this land cover layer were 2012 LiDAR and 2013 3-band orthoimagery. Ancillary data sources included GIS data provided by Virginia Beach (e.g., county boundary, building footprints, water, parking lots, roads, utility poles, bridges, airfields) or developed by the UVM Spatial Analysis Laboratory (bare soils, utility lines, modified National Wetland Inventory wetlands polygons). This land cover dataset is considered current as of 2012. Object-based image analysis (OBIA) was used to extract land-cover information using the best available remotely-sensed and vector GIS datasets. OBIA systems work by grouping pixels into meaningful objects based on their spectral and spatial properties, while taking into account boundaries imposed by existing vector datasets. Within the OBIA environment, a rule-based expert system was designed to effectively mimic the process of manual image analysis by incorporating the elements of image interpretation (color/tone, texture, pattern, location, size, and shape) into the classification process. A series of morphological procedures were used to ensure that the end product is both accurate and cartographically pleasing. No accuracy assessment was conducted, but the dataset was subjected to thorough manual quality control. More than 50,000 corrections were made to the classification
Single Fused Map Cache: false
Extent:
XMin: 1.2145E7
YMin: 3368000.0
XMax: 1.2259E7
YMax: 3509000.0
Spatial Reference: 2925
(2925)
LatestVCSWkid(0)
Initial Extent:
XMin: 1.2145E7
YMin: 3368000.0
XMax: 1.2259E7
YMax: 3509000.0
Spatial Reference: 2925
(2925)
LatestVCSWkid(0)
Full Extent:
XMin: 1.2145E7
YMin: 3368000.0
XMax: 1.2259E7
YMax: 3509000.0
Spatial Reference: 2925
(2925)
LatestVCSWkid(0)
Pixel Size X: 0.5
Pixel Size Y: 0.5
Band Count: 1
Pixel Type: U4
RasterFunction Infos: {"rasterFunctionInfos": [
{
"name": "Land Cover",
"description": "Land Cover color ramp for UTC rasters.",
"help": ""
},
{
"name": "Land Cover",
"description": "Land Cover color ramp for UTC rasters.",
"help": ""
},
{
"name": "None",
"description": "Make a Raster or Raster Dataset into a Function Raster Dataset.",
"help": ""
}
]}
Mensuration Capabilities: Basic
Inspection Capabilities:
Has Histograms: true
Has Colormap: true
Has Multi Dimensions : false
Rendering Rule:
Min Scale: 0
Max Scale: 0
Resampling: false
Copyright Text: University of Vermont Spatial Analysis Laboratory
Service Data Type: esriImageServiceDataTypeGeneric
Min Values: 0
Max Values: 7
Mean Values: 1.3213723763064575
Standard Deviation Values: 1.7829042734819398
Object ID Field:
Fields:
None
Default Mosaic Method: Center
Allowed Mosaic Methods:
SortField:
SortValue: null
Mosaic Operator: First
Default Compression Quality: 75
Default Resampling Method: Bilinear
Max Record Count: null
Max Image Height: 4100
Max Image Width: 15000
Max Download Image Count: null
Max Mosaic Image Count: null
Allow Raster Function: true
Allow Copy: true
Allow Analysis: true
Allow Compute TiePoints: false
Supports Statistics: false
Supports Advanced Queries: false
Use StandardizedQueries: true
Raster Type Infos:
Name: Raster Dataset
Description: Supports all ArcGIS Raster Datasets
Help:
Has Raster Attribute Table: true
Edit Fields Info: null
Ownership Based AccessControl For Rasters: null
Child Resources:
Info
Raster Attribute Table
Histograms
Statistics
Key Properties
Color Map
Legend
Raster Function Infos
Supported Operations:
Export Image
Identify
Measure
Compute Histograms
Compute Statistics Histograms
Get Samples
Compute Class Statistics
Query Boundary
Compute Pixel Location
Compute Angles
Validate
Project