{ "currentVersion": 11.5, "serviceDescription": "

This dataset was developed as part of the Urban Tree Canopy (UTC) Assessment for Virginia Beach, VA. As such, it represents a \"top down\" mapping perspective. This layer is a high-resolution land-cover dataset for Virginia Beach, Virginia. Nine land-cover classes were mapped: (1) tree canopy, (2) grass/shrub, (3) bare earth, (4) water, (5) buildings, (6) roads; (7) other paved surfaces; (8) forested wetlands; and (9) non-forested wetlands. The primary sources used to derive this land cover layer were 2012 LiDAR and 2013 3-band orthoimagery. Ancillary data sources included GIS data provided by Virginia Beach (e.g., county boundary, building footprints, water, parking lots, roads, utility poles, bridges, airfields) or developed by the UVM Spatial Analysis Laboratory (bare soils, utility lines, modified National Wetland Inventory wetlands polygons). This land cover dataset is considered current as of 2012. Object-based image analysis (OBIA) was used to extract land-cover information using the best available remotely-sensed and vector GIS datasets. OBIA systems work by grouping pixels into meaningful objects based on their spectral and spatial properties, while taking into account boundaries imposed by existing vector datasets. Within the OBIA environment, a rule-based expert system was designed to effectively mimic the process of manual image analysis by incorporating the elements of image interpretation (color/tone, texture, pattern, location, size, and shape) into the classification process. A series of morphological procedures were used to ensure that the end product is both accurate and cartographically pleasing. No accuracy assessment was conducted, but the dataset was subjected to thorough manual quality control. More than 50,000 corrections were made to the classification<\/span><\/p><\/div>", "name": "Land_Cover/Land_Cover_2012", "description": "

This dataset was developed as part of the Urban Tree Canopy (UTC) Assessment for Virginia Beach, VA. As such, it represents a \"top down\" mapping perspective. This layer is a high-resolution land-cover dataset for Virginia Beach, Virginia. Nine land-cover classes were mapped: (1) tree canopy, (2) grass/shrub, (3) bare earth, (4) water, (5) buildings, (6) roads; (7) other paved surfaces; (8) forested wetlands; and (9) non-forested wetlands. The primary sources used to derive this land cover layer were 2012 LiDAR and 2013 3-band orthoimagery. Ancillary data sources included GIS data provided by Virginia Beach (e.g., county boundary, building footprints, water, parking lots, roads, utility poles, bridges, airfields) or developed by the UVM Spatial Analysis Laboratory (bare soils, utility lines, modified National Wetland Inventory wetlands polygons). This land cover dataset is considered current as of 2012. Object-based image analysis (OBIA) was used to extract land-cover information using the best available remotely-sensed and vector GIS datasets. OBIA systems work by grouping pixels into meaningful objects based on their spectral and spatial properties, while taking into account boundaries imposed by existing vector datasets. Within the OBIA environment, a rule-based expert system was designed to effectively mimic the process of manual image analysis by incorporating the elements of image interpretation (color/tone, texture, pattern, location, size, and shape) into the classification process. A series of morphological procedures were used to ensure that the end product is both accurate and cartographically pleasing. No accuracy assessment was conducted, but the dataset was subjected to thorough manual quality control. More than 50,000 corrections were made to the classification<\/span><\/p><\/div>", "extent": { "xmin": 12145000, "ymin": 3368000, "xmax": 12259000, "ymax": 3509000, "spatialReference": { "wkid": 2925, "latestWkid": 2925 } }, "initialExtent": { "xmin": 12145000, "ymin": 3368000, "xmax": 12259000, "ymax": 3509000, "spatialReference": { "wkid": 2925, "latestWkid": 2925 } }, "fullExtent": { "xmin": 12145000, "ymin": 3368000, "xmax": 12259000, "ymax": 3509000, "spatialReference": { "wkid": 2925, "latestWkid": 2925 } }, "sortableFields": "", "bandCount": 1, "pixelType": "U4", "minValues": [ 0 ], "maxValues": [ 7 ], "meanValues": [ 1.3213723763064575 ], "stdvValues": [ 1.7829042734819398 ], "serviceProperties": "Center<\/MosaicMethod>First<\/MosaicOperator>true<\/SortAscending><\/LockImageID><\/TileOrderField>0<\/TileOrderBase>0.000000<\/AvgImageSpacingX>0.000000<\/AvgImageSpacingY>0.0<\/ViewPointX>0.0<\/ViewPointY>0.0<\/ViewPointDefShiftX>0.0<\/ViewPointDefShiftY>None<\/CompressionMethod>75<\/CompressionQuality>0.010000<\/CompressionTolerance>Bilinear<\/SamplingMethod><\/ImageServiceProperties><\/ImageServer>", "allowedFields": "", "hasMultidimensions": false, "pixelSizeX": 0.5, "pixelSizeY": 0.5, "meanPixelSize": 0.15240030480060962, "datasetFormat": "FGDBR", "uncompressedSize": 32148000000, "blockWidth": 128, "blockHeight": 128, "compressionType": "LZ77", "bandNames": [ "Band_1" ], "allowCopy": true, "allowAnalysis": true, "itemAccess": false, "inspectionCapabilities": "", "minPixelSize": 0, "maxPixelSize": 0, "copyrightText": "University of Vermont Spatial Analysis Laboratory", "serviceDataType": "esriImageServiceDataTypeGeneric", "serviceSourceType": "esriImageServiceSourceTypeDataset", "objectIdField": "", "fields": [], "capabilities": "Mensuration,Image,Metadata", "defaultMosaicMethod": "Center", "allowedMosaicMethods": "", "sortField": "", "sortValue": null, "sortAscending": true, "mosaicOperator": "First", "defaultCompressionQuality": 75, "defaultResamplingMethod": "Bilinear", "maxImageHeight": 4100, "maxImageWidth": 15000, "allowRasterFunction": true, "rasterFunctionInfos": [ { "name": "Land Cover", "description": "Land Cover color ramp for UTC rasters.", "help": "" }, { "name": "Land Cover", "description": "Land Cover color ramp for UTC rasters.", "help": "" }, { "name": "None", "description": "Make a Raster or Raster Dataset into a Function Raster Dataset.", "help": "" } ], "rasterTypeInfos": [ { "name": "Raster Dataset", "description": "Supports all ArcGIS Raster Datasets", "help": "" } ], "mensurationCapabilities": "Basic", "hasHistograms": true, "hasColormap": true, "hasRasterAttributeTable": true, "minScale": 0, "maxScale": 0, "exportTilesAllowed": false, "supportsStatistics": false, "supportsAdvancedQueries": false, "editFieldsInfo": null, "ownershipBasedAccessControlForRasters": null, "allowComputeTiePoints": false, "useStandardizedQueries": true, "advancedQueryCapabilities": { "useStandardizedQueries": true, "supportsStatistics": false, "supportsOrderBy": false, "supportsDistinct": false, "supportsPagination": false }, "spatialReference": { "wkid": 2925, "latestWkid": 2925 }, "resampling": false }