View In:
ArcGIS JavaScript
ArcGIS Online Map Viewer
ArcGIS Earth
Service Description: Historical/Survey_of_Lagomar_Subdivision_1968
Name: Historical/Survey_of_Lagomar_Subdivision_1968
Description:
Single Fused Map Cache: false
Extent:
XMin: 1.221414405642779E7
YMin: 3436673.403840542
XMax: 1.2226421300417542E7
YMax: 3450498.789027703
Spatial Reference: 2925
(2925)
LatestVCSWkid(0)
Initial Extent:
XMin: 1.221414405642779E7
YMin: 3436673.403840542
XMax: 1.2226421300417542E7
YMax: 3450498.789027703
Spatial Reference: 2925
(2925)
LatestVCSWkid(0)
Full Extent:
XMin: 1.221414405642779E7
YMin: 3436673.403840542
XMax: 1.2226421300417542E7
YMax: 3450498.789027703
Spatial Reference: 2925
(2925)
LatestVCSWkid(0)
Pixel Size X: 2.7833244139090016
Pixel Size Y: 3.9121067309454314
Band Count: 3
Pixel Type: U8
RasterFunction Infos: {"rasterFunctionInfos": [{
"name": "None",
"description": "",
"help": ""
}]}
Mensuration Capabilities: Basic
Inspection Capabilities:
Has Histograms: true
Has Colormap: false
Has Multi Dimensions : false
Rendering Rule:
Min Scale: 0
Max Scale: 0
Copyright Text:
Service Data Type: esriImageServiceDataTypeRGB
Min Values: 0, 0, 0
Max Values: 255, 255, 255
Mean Values: 220.21579963504, 192.29271774771, 140.10337368495
Standard Deviation Values: 29.074820944512, 27.309022636193, 23.936439282776
Object ID Field:
Fields:
None
Default Mosaic Method: Center
Allowed Mosaic Methods:
SortField:
SortValue: null
Mosaic Operator: First
Default Compression Quality: 75
Default Resampling Method: Bilinear
Max Record Count: null
Max Image Height: 4100
Max Image Width: 15000
Max Download Image Count: null
Max Mosaic Image Count: null
Allow Raster Function: true
Allow Copy: true
Allow Analysis: true
Allow Compute TiePoints: false
Supports Statistics: false
Supports Advanced Queries: false
Use StandardizedQueries: true
Raster Type Infos:
Name: Raster Dataset
Description: Supports all ArcGIS Raster Datasets
Help:
Has Raster Attribute Table: false
Edit Fields Info: null
Ownership Based AccessControl For Rasters: null
Child Resources:
Info
Histograms
Statistics
Key Properties
Legend
Raster Function Infos
Supported Operations:
Export Image
Identify
Measure
Compute Histograms
Compute Statistics Histograms
Get Samples
Compute Class Statistics
Query Boundary
Compute Pixel Location
Compute Angles
Validate
Project