{
 "currentVersion": 11.5,
 "serviceDescription": "Historical/Survey_of_Lagomar_Subdivision_1968",
 "name": "Historical/Survey_of_Lagomar_Subdivision_1968",
 "description": "",
 "extent": {
  "xmin": 1.221414405642779E7,
  "ymin": 3436673.403840542,
  "xmax": 1.2226421300417542E7,
  "ymax": 3450498.789027703,
  "spatialReference": {
   "wkid": 2925,
   "latestWkid": 2925
  }
 },
 "initialExtent": {
  "xmin": 1.221414405642779E7,
  "ymin": 3436673.403840542,
  "xmax": 1.2226421300417542E7,
  "ymax": 3450498.789027703,
  "spatialReference": {
   "wkid": 2925,
   "latestWkid": 2925
  }
 },
 "fullExtent": {
  "xmin": 1.221414405642779E7,
  "ymin": 3436673.403840542,
  "xmax": 1.2226421300417542E7,
  "ymax": 3450498.789027703,
  "spatialReference": {
   "wkid": 2925,
   "latestWkid": 2925
  }
 },
 "sortableFields": "",
 "bandCount": 3,
 "pixelType": "U8",
 "minValues": [
  0,
  0,
  0
 ],
 "maxValues": [
  255,
  255,
  255
 ],
 "meanValues": [
  220.21579963504,
  192.29271774771,
  140.10337368495
 ],
 "stdvValues": [
  29.074820944512,
  27.309022636193,
  23.936439282776
 ],
 "serviceProperties": "Center<\/MosaicMethod>First<\/MosaicOperator>true<\/SortAscending><\/LockImageID><\/TileOrderField>0<\/TileOrderBase>0.000000<\/AvgImageSpacingX>0.000000<\/AvgImageSpacingY>0.0<\/ViewPointX>0.0<\/ViewPointY>0.0<\/ViewPointDefShiftX>0.0<\/ViewPointDefShiftY>None<\/CompressionMethod>75<\/CompressionQuality>0.010000<\/CompressionTolerance>Bilinear<\/SamplingMethod><\/ImageServiceProperties><\/ImageServer>",
 "allowedFields": "",
 "hasMultidimensions": false,
 "pixelSizeX": 2.7833244139090016,
 "pixelSizeY": 3.9121067309454314,
 "meanPixelSize": 1.0203857472473103,
 "datasetFormat": "JFIF",
 "uncompressedSize": 46765422,
 "blockWidth": 4411,
 "blockHeight": 1,
 "compressionType": "JPEG",
 "bandNames": [
  "Band_1",
  "Band_2",
  "Band_3"
 ],
 "allowCopy": true,
 "allowAnalysis": true,
 "itemAccess": false,
 "inspectionCapabilities": "",
 "minPixelSize": 0,
 "maxPixelSize": 0,
 "copyrightText": "",
 "serviceDataType": "esriImageServiceDataTypeRGB",
 "serviceSourceType": "esriImageServiceSourceTypeDataset",
 "objectIdField": "",
 "fields": [],
 "capabilities": "Image,Metadata,Mensuration",
 "defaultMosaicMethod": "Center",
 "allowedMosaicMethods": "",
 "sortField": "",
 "sortValue": null,
 "sortAscending": true,
 "mosaicOperator": "First",
 "defaultCompressionQuality": 75,
 "defaultResamplingMethod": "Bilinear",
 "maxImageHeight": 4100,
 "maxImageWidth": 15000,
 "allowRasterFunction": true,
 "rasterFunctionInfos": [
  {
   "name": "None",
   "description": "",
   "help": ""
  }
 ],
 "rasterTypeInfos": [
  {
   "name": "Raster Dataset",
   "description": "Supports all ArcGIS Raster Datasets",
   "help": ""
  }
 ],
 "mensurationCapabilities": "Basic",
 "hasHistograms": true,
 "hasColormap": false,
 "hasRasterAttributeTable": false,
 "minScale": 0,
 "maxScale": 0,
 "exportTilesAllowed": false,
 "supportsStatistics": false,
 "supportsAdvancedQueries": false,
 "editFieldsInfo": null,
 "ownershipBasedAccessControlForRasters": null,
 "allowComputeTiePoints": false,
 "useStandardizedQueries": true,
 "advancedQueryCapabilities": {
  "useStandardizedQueries": true,
  "supportsStatistics": false,
  "supportsOrderBy": false,
  "supportsDistinct": false,
  "supportsPagination": false
 },
 "spatialReference": {
  "wkid": 2925,
  "latestWkid": 2925
 }
}
