View In:
ArcGIS JavaScript
ArcGIS Online Map Viewer
ArcGIS Earth
Service Description: Georeferenced historical map of Virginia Beach. This map was originally prepared in 1827 and updated in 1859. A digital copy of this map can be found online at Virginia Beach Public Library's Digital Archives: http://cdm16450.contentdm.oclc.org/cdm
Name: Historical/Southeast_Section_of_VA_Map_1859
Description:
Single Fused Map Cache: false
Extent:
XMin: 1.205051130429247E7
YMin: 3319823.923725471
XMax: 1.229121455836793E7
YMax: 3570218.2128914064
Spatial Reference: 2925
(2925)
LatestVCSWkid(0)
Initial Extent:
XMin: 1.205051130429247E7
YMin: 3319823.923725471
XMax: 1.229121455836793E7
YMax: 3570218.2128914064
Spatial Reference: 2925
(2925)
LatestVCSWkid(0)
Full Extent:
XMin: 1.205051130429247E7
YMin: 3319823.923725471
XMax: 1.229121455836793E7
YMax: 3570218.2128914064
Spatial Reference: 2925
(2925)
LatestVCSWkid(0)
Pixel Size X: 10.21183887299903
Pixel Size Y: 10.211838872999
Band Count: 3
Pixel Type: U16
RasterFunction Infos: {"rasterFunctionInfos": [{
"name": "None",
"description": "",
"help": ""
}]}
Mensuration Capabilities: Basic
Inspection Capabilities:
Has Histograms: true
Has Colormap: false
Has Multi Dimensions : false
Rendering Rule:
Min Scale: 0
Max Scale: 0
Copyright Text:
Service Data Type: esriImageServiceDataTypeGeneric
Min Values: 0, 0, 0
Max Values: 255, 255, 255
Mean Values: 205.47785272391, 185.80011632052, 158.66409808265
Standard Deviation Values: 52.522083404341, 43.433377677934, 32.639615662315
Object ID Field:
Fields:
None
Default Mosaic Method: Center
Allowed Mosaic Methods:
SortField:
SortValue: null
Mosaic Operator: First
Default Compression Quality: 75
Default Resampling Method: Bilinear
Max Record Count: null
Max Image Height: 4100
Max Image Width: 15000
Max Download Image Count: null
Max Mosaic Image Count: null
Allow Raster Function: true
Allow Copy: true
Allow Analysis: true
Allow Compute TiePoints: false
Supports Statistics: false
Supports Advanced Queries: false
Use StandardizedQueries: true
Raster Type Infos:
Name: Raster Dataset
Description: Supports all ArcGIS Raster Datasets
Help:
Has Raster Attribute Table: false
Edit Fields Info: null
Ownership Based AccessControl For Rasters: null
Child Resources:
Info
Histograms
Statistics
Key Properties
Legend
Raster Function Infos
Supported Operations:
Export Image
Identify
Measure
Compute Histograms
Compute Statistics Histograms
Get Samples
Compute Class Statistics
Query Boundary
Compute Pixel Location
Compute Angles
Validate
Project