Georeferenced historical map of Virginia Beach. This map was originally prepared in 1827 and updated in 1859. A digital copy of this map can be found online at Virginia Beach Public Library's Digital Archives: http://cdm16450.contentdm.oclc.org/cdm<\/span><\/p><\/div><\/div><\/div>",
"name": "Historical/Southeast_Section_of_VA_Map_1859",
"description": "",
"extent": {
"xmin": 1.205051130429247E7,
"ymin": 3319823.923725471,
"xmax": 1.229121455836793E7,
"ymax": 3570218.2128914064,
"spatialReference": {
"wkid": 2925,
"latestWkid": 2925
}
},
"initialExtent": {
"xmin": 1.205051130429247E7,
"ymin": 3319823.923725471,
"xmax": 1.229121455836793E7,
"ymax": 3570218.2128914064,
"spatialReference": {
"wkid": 2925,
"latestWkid": 2925
}
},
"fullExtent": {
"xmin": 1.205051130429247E7,
"ymin": 3319823.923725471,
"xmax": 1.229121455836793E7,
"ymax": 3570218.2128914064,
"spatialReference": {
"wkid": 2925,
"latestWkid": 2925
}
},
"sortableFields": "",
"bandCount": 3,
"pixelType": "U16",
"minValues": [
0,
0,
0
],
"maxValues": [
255,
255,
255
],
"meanValues": [
205.47785272391,
185.80011632052,
158.66409808265
],
"stdvValues": [
52.522083404341,
43.433377677934,
32.639615662315
],
"serviceProperties": "Center<\/MosaicMethod>First<\/MosaicOperator>true<\/SortAscending><\/LockImageID><\/TileOrderField>0<\/TileOrderBase>0.000000<\/AvgImageSpacingX>0.000000<\/AvgImageSpacingY>0.0<\/ViewPointX>0.0<\/ViewPointY>0.0<\/ViewPointDefShiftX>0.0<\/ViewPointDefShiftY>None<\/CompressionMethod>75<\/CompressionQuality>0.010000<\/CompressionTolerance>Bilinear<\/SamplingMethod><\/ImageServiceProperties><\/ImageServer>",
"allowedFields": "",
"hasMultidimensions": false,
"pixelSizeX": 10.21183887299903,
"pixelSizeY": 10.211838872999,
"meanPixelSize": 3.112574713639527,
"datasetFormat": "TIFF",
"uncompressedSize": 3467765520,
"blockWidth": 128,
"blockHeight": 128,
"compressionType": "LZW",
"bandNames": [
"Band_1",
"Band_2",
"Band_3"
],
"allowCopy": true,
"allowAnalysis": true,
"itemAccess": false,
"inspectionCapabilities": "",
"noDataValue": 65535,
"noDataValues": [
65535,
65535,
65535
],
"minPixelSize": 0,
"maxPixelSize": 0,
"copyrightText": "",
"serviceDataType": "esriImageServiceDataTypeGeneric",
"serviceSourceType": "esriImageServiceSourceTypeDataset",
"objectIdField": "",
"fields": [],
"capabilities": "Image,Metadata,Mensuration",
"defaultMosaicMethod": "Center",
"allowedMosaicMethods": "",
"sortField": "",
"sortValue": null,
"sortAscending": true,
"mosaicOperator": "First",
"defaultCompressionQuality": 75,
"defaultResamplingMethod": "Bilinear",
"maxImageHeight": 4100,
"maxImageWidth": 15000,
"allowRasterFunction": true,
"rasterFunctionInfos": [
{
"name": "None",
"description": "",
"help": ""
}
],
"rasterTypeInfos": [
{
"name": "Raster Dataset",
"description": "Supports all ArcGIS Raster Datasets",
"help": ""
}
],
"mensurationCapabilities": "Basic",
"hasHistograms": true,
"hasColormap": false,
"hasRasterAttributeTable": false,
"minScale": 0,
"maxScale": 0,
"exportTilesAllowed": false,
"supportsStatistics": false,
"supportsAdvancedQueries": false,
"editFieldsInfo": null,
"ownershipBasedAccessControlForRasters": null,
"allowComputeTiePoints": false,
"useStandardizedQueries": true,
"advancedQueryCapabilities": {
"useStandardizedQueries": true,
"supportsStatistics": false,
"supportsOrderBy": false,
"supportsDistinct": false,
"supportsPagination": false
},
"spatialReference": {
"wkid": 2925,
"latestWkid": 2925
}
}