View In:
ArcGIS JavaScript
ArcGIS Online Map Viewer
ArcGIS Earth
ArcMap
View Footprint In:
ArcGIS Online Map Viewer
Service Description: Historical/Norfolk_VB_Topo_Map_1907
Name: Historical/Norfolk_VB_Topo_Map_1907
Description:
Single Fused Map Cache: true
Tile Info:
- Height: 256
- Width: 256
- DPI: 96
-
Levels of Detail: 19
-
Level ID: 0
[ Start Tile, End Tile ]
- Resolution: 957993.4186861308
- Scale: 1.1036106255476737E9
-
Level ID: 1
[ Start Tile, End Tile ]
- Resolution: 478996.7093430654
- Scale: 5.518053127738369E8
-
Level ID: 2
[ Start Tile, End Tile ]
- Resolution: 239498.3546715327
- Scale: 2.759026563869184E8
-
Level ID: 3
[ Start Tile, End Tile ]
- Resolution: 119749.17733576635
- Scale: 1.379513281934592E8
-
Level ID: 4
[ Start Tile, End Tile ]
- Resolution: 59874.588667883174
- Scale: 6.89756640967296E7
-
Level ID: 5
[ Start Tile, End Tile ]
- Resolution: 29937.294333941587
- Scale: 3.44878320483648E7
-
Level ID: 6
[ Start Tile, End Tile ]
- Resolution: 14968.647166970793
- Scale: 1.72439160241824E7
-
Level ID: 8
[ Start Tile, End Tile ]
- Resolution: 3742.1617917426984
- Scale: 4310979.0060456
-
Level ID: 9
[ Start Tile, End Tile ]
- Resolution: 1871.0808958713492
- Scale: 2155489.5030228
-
Level ID: 10
[ Start Tile, End Tile ]
- Resolution: 935.5404479356746
- Scale: 1077744.7515114
-
Level ID: 12
[ Start Tile, End Tile ]
- Resolution: 233.88511198391865
- Scale: 269436.18787785
-
Level ID: 13
[ Start Tile, End Tile ]
- Resolution: 116.94255599195932
- Scale: 134718.093938925
-
Level ID: 14
[ Start Tile, End Tile ]
- Resolution: 58.47127799597966
- Scale: 67359.0469694625
-
Level ID: 15
[ Start Tile, End Tile ]
- Resolution: 29.23563899798983
- Scale: 33679.52348473125
-
Level ID: 16
[ Start Tile, End Tile ]
- Resolution: 14.617819498994916
- Scale: 16839.761742365627
-
Level ID: 17
[ Start Tile, End Tile ]
- Resolution: 7.308909749497458
- Scale: 8419.880871182813
-
Level ID: 18
[ Start Tile, End Tile ]
- Resolution: 3.654454874748729
- Scale: 4209.940435591407
- Format: PNG
- Compression Quality: 0.0
- LERC Error: NaN
- Origin: X: -1.1114024092515808E8
Y: 1.1261334390327471E8
- Spatial Reference: 2925
(2925)
Storage Info:
- Storage Format: esriMapCacheStorageModeCompactV2
- Packet Size: 128
Extent:
XMin: 1.2050164599936567E7
YMin: 3389520.6434508446
XMax: 1.2269764599936567E7
YMax: 3563180.6434508446
Spatial Reference: 2925
(2925)
Initial Extent:
XMin: 1.2050164599936567E7
YMin: 3389520.6434508446
XMax: 1.2269764599936567E7
YMax: 3563180.6434508446
Spatial Reference: 2925
(2925)
Full Extent:
XMin: 1.2050164599936567E7
YMin: 3389520.6434508446
XMax: 1.2269764599936567E7
YMax: 3563180.6434508446
Spatial Reference: 2925
(2925)
Pixel Size X: 20.0
Pixel Size Y: 20.0
Band Count: 3
Pixel Type: U16
RasterFunction Infos: {"rasterFunctionInfos": [{
"name": "None",
"description": "",
"help": ""
}]}
Mensuration Capabilities: Basic
Has Histograms: true
Has Colormap: false
Has Multi Dimensions : false
Rendering Rule:
Min Scale: 2155489.5030228
Max Scale: 4209.940435591407
Min LOD: 9
Max LOD: 18
Copyright Text:
Service Data Type: esriImageServiceDataTypeGeneric
Min Values: 0, 0, 0
Max Values: 255, 255, 255
Mean Values: 228.34503767408, 216.07259017475, 185.32939059025
Standard Deviation Values: 40.735464873816, 39.701123004712, 38.387655642542
Object ID Field:
Fields:
None
Default Mosaic Method: Center
Allowed Mosaic Methods:
SortField:
SortValue: null
Mosaic Operator: First
Default Compression Quality: 75
Default Resampling Method: Bilinear
Max Record Count: null
Max Image Height: 4100
Max Image Width: 15000
Max Download Image Count: null
Max Mosaic Image Count: null
Allow Raster Function: true
Allow Copy: true
Allow Analysis: true
Allow Compute TiePoints: false
Supports Statistics: false
Supports Advanced Queries: false
Use StandardizedQueries: true
Raster Type Infos:
Name: Raster Dataset
Description: Supports all ArcGIS Raster Datasets
Help:
Has Raster Attribute Table: false
Edit Fields Info: null
Ownership Based AccessControl For Rasters: null
Child Resources:
Info
Histograms
Statistics
Key Properties
Legend
Raster Function Infos
Supported Operations:
Export Image
Identify
Measure
Compute Histograms
Compute Statistics Histograms
Get Samples
Compute Class Statistics
Query Boundary
Compute Pixel Location
Compute Angles
Validate
Project