{
 "currentVersion": 10.91,
 "serviceDescription": "Historical/Norfolk_VB_Topo_Map_1907",
 "name": "Historical/Norfolk_VB_Topo_Map_1907",
 "description": "",
 "extent": {
  "xmin": 1.2050164599936567E7,
  "ymin": 3389520.6434508446,
  "xmax": 1.2269764599936567E7,
  "ymax": 3563180.6434508446,
  "spatialReference": {
   "wkid": 2925,
   "latestWkid": 2925
  }
 },
 "initialExtent": {
  "xmin": 1.2050164599936567E7,
  "ymin": 3389520.6434508446,
  "xmax": 1.2269764599936567E7,
  "ymax": 3563180.6434508446,
  "spatialReference": {
   "wkid": 2925,
   "latestWkid": 2925
  }
 },
 "fullExtent": {
  "xmin": 1.2050164599936567E7,
  "ymin": 3389520.6434508446,
  "xmax": 1.2269764599936567E7,
  "ymax": 3563180.6434508446,
  "spatialReference": {
   "wkid": 2925,
   "latestWkid": 2925
  }
 },
 "hasMultidimensions": false,
 "pixelSizeX": 20,
 "pixelSizeY": 20,
 "datasetFormat": "TIFF",
 "uncompressedSize": 572036040,
 "blockWidth": 128,
 "blockHeight": 128,
 "compressionType": "LZW",
 "bandNames": [
  "Band_1",
  "Band_2",
  "Band_3"
 ],
 "allowCopy": true,
 "allowAnalysis": true,
 "bandCount": 3,
 "noDataValue": 65535,
 "noDataValues": [
  65535,
  65535,
  65535
 ],
 "pixelType": "U16",
 "minPixelSize": 3.654454874748729,
 "maxPixelSize": 1871.0808958713492,
 "copyrightText": "",
 "serviceDataType": "esriImageServiceDataTypeGeneric",
 "serviceSourceType": "esriImageServiceSourceTypeDataset",
 "minValues": [
  0,
  0,
  0
 ],
 "maxValues": [
  255,
  255,
  255
 ],
 "meanValues": [
  228.34503767408,
  216.07259017475,
  185.32939059025
 ],
 "stdvValues": [
  40.735464873816,
  39.701123004712,
  38.387655642542
 ],
 "objectIdField": "",
 "fields": [],
 "capabilities": "Image,Metadata,Mensuration",
 "defaultMosaicMethod": "Center",
 "allowedMosaicMethods": "",
 "sortField": "",
 "sortValue": null,
 "sortAscending": true,
 "mosaicOperator": "First",
 "defaultCompressionQuality": 75,
 "defaultResamplingMethod": "Bilinear",
 "maxImageHeight": 4100,
 "maxImageWidth": 15000,
 "singleFusedMapCache": true,
 "tileInfo": {
  "rows": 256,
  "cols": 256,
  "dpi": 96,
  "format": "PNG",
  "compressionQuality": 0,
  "origin": {
   "x": -1.1114024092515808E8,
   "y": 1.1261334390327471E8
  },
  "spatialReference": {
   "wkid": 2925,
   "latestWkid": 2925
  },
  "lods": [
   {
    "level": 0,
    "resolution": 957993.4186861308,
    "scale": 1.1036106255476737E9
   },
   {
    "level": 1,
    "resolution": 478996.7093430654,
    "scale": 5.518053127738369E8
   },
   {
    "level": 2,
    "resolution": 239498.3546715327,
    "scale": 2.759026563869184E8
   },
   {
    "level": 3,
    "resolution": 119749.17733576635,
    "scale": 1.379513281934592E8
   },
   {
    "level": 4,
    "resolution": 59874.588667883174,
    "scale": 6.89756640967296E7
   },
   {
    "level": 5,
    "resolution": 29937.294333941587,
    "scale": 3.44878320483648E7
   },
   {
    "level": 6,
    "resolution": 14968.647166970793,
    "scale": 1.72439160241824E7
   },
   {
    "level": 7,
    "resolution": 7484.323583485397,
    "scale": 8621958.0120912
   },
   {
    "level": 8,
    "resolution": 3742.1617917426984,
    "scale": 4310979.0060456
   },
   {
    "level": 9,
    "resolution": 1871.0808958713492,
    "scale": 2155489.5030228
   },
   {
    "level": 10,
    "resolution": 935.5404479356746,
    "scale": 1077744.7515114
   },
   {
    "level": 11,
    "resolution": 467.7702239678373,
    "scale": 538872.3757557
   },
   {
    "level": 12,
    "resolution": 233.88511198391865,
    "scale": 269436.18787785
   },
   {
    "level": 13,
    "resolution": 116.94255599195932,
    "scale": 134718.093938925
   },
   {
    "level": 14,
    "resolution": 58.47127799597966,
    "scale": 67359.0469694625
   },
   {
    "level": 15,
    "resolution": 29.23563899798983,
    "scale": 33679.52348473125
   },
   {
    "level": 16,
    "resolution": 14.617819498994916,
    "scale": 16839.761742365627
   },
   {
    "level": 17,
    "resolution": 7.308909749497458,
    "scale": 8419.880871182813
   },
   {
    "level": 18,
    "resolution": 3.654454874748729,
    "scale": 4209.940435591407
   }
  ]
 },
 "storageInfo": {
  "storageFormat": "esriMapCacheStorageModeCompactV2",
  "packetSize": 128
 },
 "cacheType": "Map",
 "allowRasterFunction": true,
 "rasterFunctionInfos": [
  {
   "name": "None",
   "description": "",
   "help": ""
  }
 ],
 "rasterTypeInfos": [
  {
   "name": "Raster Dataset",
   "description": "Supports all ArcGIS Raster Datasets",
   "help": ""
  }
 ],
 "mensurationCapabilities": "Basic",
 "hasHistograms": true,
 "hasColormap": false,
 "hasRasterAttributeTable": false,
 "minScale": 2155489.5030228,
 "maxScale": 4209.940435591407,
 "minLOD": 9,
 "maxLOD": 18,
 "exportTilesAllowed": false,
 "supportsStatistics": false,
 "supportsAdvancedQueries": false,
 "editFieldsInfo": null,
 "ownershipBasedAccessControlForRasters": null,
 "allowComputeTiePoints": false,
 "useStandardizedQueries": true,
 "advancedQueryCapabilities": {
  "useStandardizedQueries": true,
  "supportsStatistics": false,
  "supportsOrderBy": false,
  "supportsDistinct": false,
  "supportsPagination": false
 },
 "spatialReference": {
  "wkid": 2925,
  "latestWkid": 2925
 }
}
