View In:
ArcGIS JavaScript
ArcGIS Online Map Viewer
ArcGIS Earth
ArcMap
View Footprint In:
ArcGIS Online Map Viewer
Service Description: Historical/Map_Of_Ubermeer_1926
Name: Historical/Map_Of_Ubermeer_1926
Description:
Single Fused Map Cache: false
Extent:
XMin: 1.2216285730752766E7
YMin: 3488242.3925567213
XMax: 1.2219484730752766E7
YMax: 3491812.3925567213
Spatial Reference: 2925
(2925)
Initial Extent:
XMin: 1.2216285730752766E7
YMin: 3488242.3925567213
XMax: 1.2219484730752766E7
YMax: 3491812.3925567213
Spatial Reference: 2925
(2925)
Full Extent:
XMin: 1.2216285730752766E7
YMin: 3488242.3925567213
XMax: 1.2219484730752766E7
YMax: 3491812.3925567213
Spatial Reference: 2925
(2925)
Pixel Size X: 1.0
Pixel Size Y: 1.0
Band Count: 3
Pixel Type: U16
RasterFunction Infos: {"rasterFunctionInfos": [{
"name": "None",
"description": "",
"help": ""
}]}
Mensuration Capabilities: Basic
Has Histograms: true
Has Colormap: false
Has Multi Dimensions : false
Rendering Rule:
Min Scale: 0
Max Scale: 0
Copyright Text:
Service Data Type: esriImageServiceDataTypeGeneric
Min Values: 31, 22, 0
Max Values: 255, 223, 180
Mean Values: 193.74617864393, 163.00776805382, 107.8515971003
Standard Deviation Values: 45.050496802245, 37.97609642887, 26.060562459774
Object ID Field:
Fields:
None
Default Mosaic Method: Center
Allowed Mosaic Methods:
SortField:
SortValue: null
Mosaic Operator: First
Default Compression Quality: 75
Default Resampling Method: Bilinear
Max Record Count: null
Max Image Height: 4100
Max Image Width: 15000
Max Download Image Count: null
Max Mosaic Image Count: null
Allow Raster Function: true
Allow Copy: true
Allow Analysis: true
Allow Compute TiePoints: false
Supports Statistics: false
Supports Advanced Queries: false
Use StandardizedQueries: true
Raster Type Infos:
Name: Raster Dataset
Description: Supports all ArcGIS Raster Datasets
Help:
Has Raster Attribute Table: false
Edit Fields Info: null
Ownership Based AccessControl For Rasters: null
Child Resources:
Info
Histograms
Statistics
Key Properties
Legend
Raster Function Infos
Supported Operations:
Export Image
Identify
Measure
Compute Histograms
Compute Statistics Histograms
Get Samples
Compute Class Statistics
Query Boundary
Compute Pixel Location
Compute Angles
Validate
Project