{
 "currentVersion": 10.91,
 "serviceDescription": "Historical/Map_Of_Ubermeer_1926",
 "name": "Historical/Map_Of_Ubermeer_1926",
 "description": "",
 "extent": {
  "xmin": 1.2216285730752766E7,
  "ymin": 3488242.3925567213,
  "xmax": 1.2219484730752766E7,
  "ymax": 3491812.3925567213,
  "spatialReference": {
   "wkid": 2925,
   "latestWkid": 2925
  }
 },
 "initialExtent": {
  "xmin": 1.2216285730752766E7,
  "ymin": 3488242.3925567213,
  "xmax": 1.2219484730752766E7,
  "ymax": 3491812.3925567213,
  "spatialReference": {
   "wkid": 2925,
   "latestWkid": 2925
  }
 },
 "fullExtent": {
  "xmin": 1.2216285730752766E7,
  "ymin": 3488242.3925567213,
  "xmax": 1.2219484730752766E7,
  "ymax": 3491812.3925567213,
  "spatialReference": {
   "wkid": 2925,
   "latestWkid": 2925
  }
 },
 "hasMultidimensions": false,
 "pixelSizeX": 1,
 "pixelSizeY": 1,
 "datasetFormat": "TIFF",
 "uncompressedSize": 68522580,
 "blockWidth": 128,
 "blockHeight": 128,
 "compressionType": "LZW",
 "bandNames": [
  "Band_1",
  "Band_2",
  "Band_3"
 ],
 "allowCopy": true,
 "allowAnalysis": true,
 "bandCount": 3,
 "noDataValue": 65535,
 "noDataValues": [
  65535,
  65535,
  65535
 ],
 "pixelType": "U16",
 "minPixelSize": 0,
 "maxPixelSize": 0,
 "copyrightText": "",
 "serviceDataType": "esriImageServiceDataTypeGeneric",
 "serviceSourceType": "esriImageServiceSourceTypeDataset",
 "minValues": [
  31,
  22,
  0
 ],
 "maxValues": [
  255,
  223,
  180
 ],
 "meanValues": [
  193.74617864393,
  163.00776805382,
  107.8515971003
 ],
 "stdvValues": [
  45.050496802245,
  37.97609642887,
  26.060562459774
 ],
 "objectIdField": "",
 "fields": [],
 "capabilities": "Image,Metadata,Mensuration",
 "defaultMosaicMethod": "Center",
 "allowedMosaicMethods": "",
 "sortField": "",
 "sortValue": null,
 "sortAscending": true,
 "mosaicOperator": "First",
 "defaultCompressionQuality": 75,
 "defaultResamplingMethod": "Bilinear",
 "maxImageHeight": 4100,
 "maxImageWidth": 15000,
 "allowRasterFunction": true,
 "rasterFunctionInfos": [
  {
   "name": "None",
   "description": "",
   "help": ""
  }
 ],
 "rasterTypeInfos": [
  {
   "name": "Raster Dataset",
   "description": "Supports all ArcGIS Raster Datasets",
   "help": ""
  }
 ],
 "mensurationCapabilities": "Basic",
 "hasHistograms": true,
 "hasColormap": false,
 "hasRasterAttributeTable": false,
 "minScale": 0,
 "maxScale": 0,
 "exportTilesAllowed": false,
 "supportsStatistics": false,
 "supportsAdvancedQueries": false,
 "editFieldsInfo": null,
 "ownershipBasedAccessControlForRasters": null,
 "allowComputeTiePoints": false,
 "useStandardizedQueries": true,
 "advancedQueryCapabilities": {
  "useStandardizedQueries": true,
  "supportsStatistics": false,
  "supportsOrderBy": false,
  "supportsDistinct": false,
  "supportsPagination": false
 },
 "spatialReference": {
  "wkid": 2925,
  "latestWkid": 2925
 }
}
