View In:
ArcGIS JavaScript
ArcGIS Online Map Viewer
ArcGIS Earth
Service Description: Horizontal accuracy cannot be guaranteed and does not meet the requirements for survey quality data; images are the property of the City of Virginia Beach Public Works Operations ©2023.
Name: Drone_Imagery/WINDSOR_WOODS_20240226
Description:
Single Fused Map Cache: false
Extent:
XMin: 399969.9426914541
YMin: 4076595.4454137543
XMax: 400269.7629581777
YMax: 4076895.265680478
Spatial Reference: 32618
(32618)
VCSWkid(5773)
LatestVCSWkid(5773)
Initial Extent:
XMin: 399969.9426914541
YMin: 4076595.4454137543
XMax: 400269.7629581777
YMax: 4076895.265680478
Spatial Reference: 32618
(32618)
VCSWkid(5773)
LatestVCSWkid(5773)
Full Extent:
XMin: 399969.9426914541
YMin: 4076595.4454137543
XMax: 400269.7629581777
YMax: 4076895.265680478
Spatial Reference: 32618
(32618)
VCSWkid(5773)
LatestVCSWkid(5773)
Pixel Size X: 0.021415733337402345
Pixel Size Y: 0.021415733337402345
Band Count: 3
Pixel Type: U8
RasterFunction Infos: {"rasterFunctionInfos": [{
"name": "None",
"description": "",
"help": ""
}]}
Mensuration Capabilities: Basic
Inspection Capabilities:
Has Histograms: true
Has Colormap: false
Has Multi Dimensions : false
Rendering Rule:
Min Scale: 0
Max Scale: 0
Copyright Text: City of Virginia Beach Public Works Operations ©2023
Service Data Type: esriImageServiceDataTypeRGB
Min Values: 1, 1, 3
Max Values: 254, 254, 254
Mean Values: 140.3620822741, 136.08892458207, 124.71611046915
Standard Deviation Values: 45.372041205568, 41.539805720603, 44.934547388725
Object ID Field:
Fields:
None
Default Mosaic Method: Center
Allowed Mosaic Methods:
SortField:
SortValue: null
Mosaic Operator: First
Default Compression Quality: 75
Default Resampling Method: Bilinear
Max Record Count: null
Max Image Height: 4100
Max Image Width: 15000
Max Download Image Count: null
Max Mosaic Image Count: null
Allow Raster Function: true
Allow Copy: true
Allow Analysis: true
Allow Compute TiePoints: false
Supports Statistics: false
Supports Advanced Queries: false
Use StandardizedQueries: true
Raster Type Infos:
Name: Raster Dataset
Description: Supports all ArcGIS Raster Datasets
Help:
Has Raster Attribute Table: false
Edit Fields Info: null
Ownership Based AccessControl For Rasters: null
Child Resources:
Info
Histograms
Statistics
Key Properties
Legend
Raster Function Infos
Supported Operations:
Export Image
Identify
Measure
Compute Histograms
Compute Statistics Histograms
Get Samples
Compute Class Statistics
Query Boundary
Compute Pixel Location
Compute Angles
Validate
Project