Horizontal accuracy cannot be guaranteed and does not meet the requirements for survey quality data; images are the property of the City of Virginia Beach Public Works Operations ©2023. <\/span><\/p><\/div><\/div><\/div>",
"name": "Drone_Imagery/WINDSOR_WOODS_20240226",
"description": "",
"extent": {
"xmin": 399969.9426914541,
"ymin": 4076595.4454137543,
"xmax": 400269.7629581777,
"ymax": 4076895.265680478,
"spatialReference": {
"wkid": 32618,
"latestWkid": 32618,
"vcsWkid": 5773,
"latestVcsWkid": 5773
}
},
"initialExtent": {
"xmin": 399969.9426914541,
"ymin": 4076595.4454137543,
"xmax": 400269.7629581777,
"ymax": 4076895.265680478,
"spatialReference": {
"wkid": 32618,
"latestWkid": 32618,
"vcsWkid": 5773,
"latestVcsWkid": 5773
}
},
"fullExtent": {
"xmin": 399969.9426914541,
"ymin": 4076595.4454137543,
"xmax": 400269.7629581777,
"ymax": 4076895.265680478,
"spatialReference": {
"wkid": 32618,
"latestWkid": 32618,
"vcsWkid": 5773,
"latestVcsWkid": 5773
}
},
"sortableFields": "",
"heightModelInfo": {
"heightModel": "gravity_related_height",
"vertCRS": "EGM96_Geoid",
"heightUnit": "meter"
},
"bandCount": 3,
"pixelType": "U8",
"minValues": [
1,
1,
3
],
"maxValues": [
254,
254,
254
],
"meanValues": [
140.3620822741,
136.08892458207,
124.71611046915
],
"stdvValues": [
45.372041205568,
41.539805720603,
44.934547388725
],
"serviceProperties": "Center<\/MosaicMethod>First<\/MosaicOperator>true<\/SortAscending><\/LockImageID><\/TileOrderField>0<\/TileOrderBase>0.000000<\/AvgImageSpacingX>0.000000<\/AvgImageSpacingY>0.0<\/ViewPointX>0.0<\/ViewPointY>0.0<\/ViewPointDefShiftX>0.0<\/ViewPointDefShiftY>None<\/CompressionMethod>75<\/CompressionQuality>0.010000<\/CompressionTolerance>Bilinear<\/SamplingMethod><\/ImageServiceProperties><\/ImageServer>",
"allowedFields": "",
"hasMultidimensions": false,
"pixelSizeX": 0.021415733337402345,
"pixelSizeY": 0.021415733337402345,
"meanPixelSize": 0.021415733337402345,
"datasetFormat": "TIFF",
"uncompressedSize": 588000000,
"blockWidth": 256,
"blockHeight": 256,
"compressionType": "LZW",
"bandNames": [
"Red",
"Green",
"Blue"
],
"allowCopy": true,
"allowAnalysis": true,
"itemAccess": false,
"inspectionCapabilities": "",
"noDataValue": 0,
"noDataValues": [
0,
0,
0
],
"minPixelSize": 0,
"maxPixelSize": 0,
"copyrightText": "City of Virginia Beach Public Works Operations ©2023",
"serviceDataType": "esriImageServiceDataTypeRGB",
"serviceSourceType": "esriImageServiceSourceTypeDataset",
"objectIdField": "",
"fields": [],
"capabilities": "Image,Metadata,Mensuration",
"defaultMosaicMethod": "Center",
"allowedMosaicMethods": "",
"sortField": "",
"sortValue": null,
"sortAscending": true,
"mosaicOperator": "First",
"defaultCompressionQuality": 75,
"defaultResamplingMethod": "Bilinear",
"maxImageHeight": 4100,
"maxImageWidth": 15000,
"allowRasterFunction": true,
"rasterFunctionInfos": [
{
"name": "None",
"description": "",
"help": ""
}
],
"rasterTypeInfos": [
{
"name": "Raster Dataset",
"description": "Supports all ArcGIS Raster Datasets",
"help": ""
}
],
"mensurationCapabilities": "Basic",
"hasHistograms": true,
"hasColormap": false,
"hasRasterAttributeTable": false,
"minScale": 0,
"maxScale": 0,
"exportTilesAllowed": false,
"supportsStatistics": false,
"supportsAdvancedQueries": false,
"editFieldsInfo": null,
"ownershipBasedAccessControlForRasters": null,
"allowComputeTiePoints": false,
"useStandardizedQueries": true,
"advancedQueryCapabilities": {
"useStandardizedQueries": true,
"supportsStatistics": false,
"supportsOrderBy": false,
"supportsDistinct": false,
"supportsPagination": false
},
"spatialReference": {
"wkid": 32618,
"latestWkid": 32618,
"vcsWkid": 5773,
"latestVcsWkid": 5773
}
}