View In:
ArcGIS JavaScript
ArcGIS Online Map Viewer
ArcGIS Earth
Service Description: Imagery was Captured on August 8, 2024 at an altitude of of 200'. Horizontal accuracy cannot be guaranteed and does not meet the requirements for survey quality data; images are the property of the City of Virginia Beach Public Works Operations ©2024.
Name: Drone_Imagery/FIRST_COLONIAL_FPP_20240806
Description:
Single Fused Map Cache: false
Extent:
XMin: 408838.3026227054
YMin: 4077419.2618617285
XMax: 409212.606990416
YMax: 4077679.3377206856
Spatial Reference: 32618
(32618)
VCSWkid(5773)
LatestVCSWkid(5773)
Initial Extent:
XMin: 408838.3026227054
YMin: 4077419.2618617285
XMax: 409212.606990416
YMax: 4077679.3377206856
Spatial Reference: 32618
(32618)
VCSWkid(5773)
LatestVCSWkid(5773)
Full Extent:
XMin: 408838.3026227054
YMin: 4077419.2618617285
XMax: 409212.606990416
YMax: 4077679.3377206856
Spatial Reference: 32618
(32618)
VCSWkid(5773)
LatestVCSWkid(5773)
Pixel Size X: 0.017420849283747715
Pixel Size Y: 0.017420849283752038
Band Count: 3
Pixel Type: U8
RasterFunction Infos: {"rasterFunctionInfos": [{
"name": "None",
"description": "Make a Raster or Raster Dataset into a Function Raster Dataset.",
"help": ""
}]}
Mensuration Capabilities: Basic
Inspection Capabilities:
Has Histograms: true
Has Colormap: false
Has Multi Dimensions : false
Rendering Rule:
Min Scale: 0
Max Scale: 0
Copyright Text: City of Virginia Beach Public Works Operations ©2024
Service Data Type: esriImageServiceDataTypeRGB
Min Values: 1, 1, 1
Max Values: 255, 255, 255
Mean Values: 124.63212859635, 137.48030010929, 100.06260392952
Standard Deviation Values: 58.993351771418, 50.234217147898, 71.428486617587
Object ID Field:
Fields:
None
Default Mosaic Method: Center
Allowed Mosaic Methods:
SortField:
SortValue: null
Mosaic Operator: First
Default Compression Quality: 75
Default Resampling Method: Bilinear
Max Record Count: null
Max Image Height: 4100
Max Image Width: 15000
Max Download Image Count: null
Max Mosaic Image Count: null
Allow Raster Function: true
Allow Copy: true
Allow Analysis: true
Allow Compute TiePoints: false
Supports Statistics: false
Supports Advanced Queries: false
Use StandardizedQueries: true
Raster Type Infos:
Name: Raster Dataset
Description: Supports all ArcGIS Raster Datasets
Help:
Has Raster Attribute Table: false
Edit Fields Info: null
Ownership Based AccessControl For Rasters: null
Child Resources:
Info
Histograms
Statistics
Key Properties
Legend
Raster Function Infos
Supported Operations:
Export Image
Identify
Measure
Compute Histograms
Compute Statistics Histograms
Get Samples
Compute Class Statistics
Query Boundary
Compute Pixel Location
Compute Angles
Validate
Project