Imagery was Captured on August 8, 2024 at an altitude of of 200'. Horizontal accuracy cannot be guaranteed and does not meet the requirements for survey quality data; images are the property of the City of Virginia Beach Public Works Operations ©2024. <\/span><\/p><\/div><\/div><\/div>",
"name": "Drone_Imagery/FIRST_COLONIAL_FPP_20240806",
"description": "",
"extent": {
"xmin": 408838.3026227054,
"ymin": 4077419.2618617285,
"xmax": 409212.606990416,
"ymax": 4077679.3377206856,
"spatialReference": {
"wkid": 32618,
"latestWkid": 32618,
"vcsWkid": 5773,
"latestVcsWkid": 5773
}
},
"initialExtent": {
"xmin": 408838.3026227054,
"ymin": 4077419.2618617285,
"xmax": 409212.606990416,
"ymax": 4077679.3377206856,
"spatialReference": {
"wkid": 32618,
"latestWkid": 32618,
"vcsWkid": 5773,
"latestVcsWkid": 5773
}
},
"fullExtent": {
"xmin": 408838.3026227054,
"ymin": 4077419.2618617285,
"xmax": 409212.606990416,
"ymax": 4077679.3377206856,
"spatialReference": {
"wkid": 32618,
"latestWkid": 32618,
"vcsWkid": 5773,
"latestVcsWkid": 5773
}
},
"sortableFields": "",
"heightModelInfo": {
"heightModel": "gravity_related_height",
"vertCRS": "EGM96_Geoid",
"heightUnit": "meter"
},
"bandCount": 3,
"pixelType": "U8",
"minValues": [
1,
1,
1
],
"maxValues": [
255,
255,
255
],
"meanValues": [
124.63212859635,
137.48030010929,
100.06260392952
],
"stdvValues": [
58.993351771418,
50.234217147898,
71.428486617587
],
"serviceProperties": "Center<\/MosaicMethod>First<\/MosaicOperator>true<\/SortAscending><\/LockImageID><\/TileOrderField>0<\/TileOrderBase>0.000000<\/AvgImageSpacingX>0.000000<\/AvgImageSpacingY>0.0<\/ViewPointX>0.0<\/ViewPointY>0.0<\/ViewPointDefShiftX>0.0<\/ViewPointDefShiftY>None<\/CompressionMethod>75<\/CompressionQuality>0.010000<\/CompressionTolerance>Bilinear<\/SamplingMethod><\/ImageServiceProperties><\/ImageServer>",
"allowedFields": "",
"hasMultidimensions": false,
"pixelSizeX": 0.017420849283747715,
"pixelSizeY": 0.017420849283752038,
"meanPixelSize": 0.017420849283749876,
"datasetFormat": "TIFF",
"uncompressedSize": 962293482,
"blockWidth": 256,
"blockHeight": 256,
"compressionType": "LZW",
"bandNames": [
"Red",
"Green",
"Blue"
],
"allowCopy": true,
"allowAnalysis": true,
"itemAccess": false,
"inspectionCapabilities": "",
"noDataValue": 0,
"noDataValues": [
0,
0,
0
],
"minPixelSize": 0,
"maxPixelSize": 0,
"copyrightText": "City of Virginia Beach Public Works Operations ©2024",
"serviceDataType": "esriImageServiceDataTypeRGB",
"serviceSourceType": "esriImageServiceSourceTypeDataset",
"objectIdField": "",
"fields": [],
"capabilities": "Image,Metadata,Mensuration",
"defaultMosaicMethod": "Center",
"allowedMosaicMethods": "",
"sortField": "",
"sortValue": null,
"sortAscending": true,
"mosaicOperator": "First",
"defaultCompressionQuality": 75,
"defaultResamplingMethod": "Bilinear",
"maxImageHeight": 4100,
"maxImageWidth": 15000,
"allowRasterFunction": true,
"rasterFunctionInfos": [
{
"name": "None",
"description": "Make a Raster or Raster Dataset into a Function Raster Dataset.",
"help": ""
}
],
"rasterTypeInfos": [
{
"name": "Raster Dataset",
"description": "Supports all ArcGIS Raster Datasets",
"help": ""
}
],
"mensurationCapabilities": "Basic",
"hasHistograms": true,
"hasColormap": false,
"hasRasterAttributeTable": false,
"minScale": 0,
"maxScale": 0,
"exportTilesAllowed": false,
"supportsStatistics": false,
"supportsAdvancedQueries": false,
"editFieldsInfo": null,
"ownershipBasedAccessControlForRasters": null,
"allowComputeTiePoints": false,
"useStandardizedQueries": true,
"advancedQueryCapabilities": {
"useStandardizedQueries": true,
"supportsStatistics": false,
"supportsOrderBy": false,
"supportsDistinct": false,
"supportsPagination": false
},
"spatialReference": {
"wkid": 32618,
"latestWkid": 32618,
"vcsWkid": 5773,
"latestVcsWkid": 5773
}
}