View In:
ArcGIS JavaScript
ArcGIS Online Map Viewer
ArcGIS Earth
Service Description: Historical/Sunrise_at_Virginia_Beach_1924
Name: Historical/Sunrise_at_Virginia_Beach_1924
Description:
Single Fused Map Cache: false
Extent:
XMin: 1.2220655768539276E7
YMin: 3465529.6406502184
XMax: 1.2225337214693435E7
YMax: 3471946.984833582
Spatial Reference: 2925
(2925)
LatestVCSWkid(0)
Initial Extent:
XMin: 1.2220655768539276E7
YMin: 3465529.6406502184
XMax: 1.2225337214693435E7
YMax: 3471946.984833582
Spatial Reference: 2925
(2925)
LatestVCSWkid(0)
Full Extent:
XMin: 1.2220655768539276E7
YMin: 3465529.6406502184
XMax: 1.2225337214693435E7
YMax: 3471946.984833582
Spatial Reference: 2925
(2925)
LatestVCSWkid(0)
Pixel Size X: 1.005465239295224
Pixel Size Y: 2.3142243719305755
Band Count: 3
Pixel Type: U8
RasterFunction Infos: {"rasterFunctionInfos": [{
"name": "None",
"description": "",
"help": ""
}]}
Mensuration Capabilities: Basic
Inspection Capabilities:
Has Histograms: true
Has Colormap: false
Has Multi Dimensions : false
Rendering Rule:
Min Scale: 0
Max Scale: 0
Copyright Text:
Service Data Type: esriImageServiceDataTypeRGB
Min Values: 0, 0, 0
Max Values: 255, 255, 255
Mean Values: 211.74474296822, 199.42705060952, 168.65414138608
Standard Deviation Values: 40.862147313928, 40.174586792317, 37.622370257002
Object ID Field:
Fields:
None
Default Mosaic Method: Center
Allowed Mosaic Methods:
SortField:
SortValue: null
Mosaic Operator: First
Default Compression Quality: 75
Default Resampling Method: Bilinear
Max Record Count: null
Max Image Height: 4100
Max Image Width: 15000
Max Download Image Count: null
Max Mosaic Image Count: null
Allow Raster Function: true
Allow Copy: true
Allow Analysis: true
Allow Compute TiePoints: false
Supports Statistics: false
Supports Advanced Queries: false
Use StandardizedQueries: true
Raster Type Infos:
Name: Raster Dataset
Description: Supports all ArcGIS Raster Datasets
Help:
Has Raster Attribute Table: false
Edit Fields Info: null
Ownership Based AccessControl For Rasters: null
Child Resources:
Info
Histograms
Statistics
Key Properties
Legend
Raster Function Infos
Supported Operations:
Export Image
Identify
Measure
Compute Histograms
Compute Statistics Histograms
Get Samples
Compute Class Statistics
Query Boundary
Compute Pixel Location
Compute Angles
Validate
Project