View In:
ArcGIS JavaScript
ArcGIS Online Map Viewer
ArcGIS Earth
Service Description: Citywide map prepared in March 1973 by Raytheon Company, Autometric Operation, Wayland, MA. Map obtained from Virginia Beach Library Services' Digital Archives website: http://cdm16450.contentdm.oclc.org/cdm/singleitem/collection/p15419coll1/id/512/rec/29.
Name: Historical/Department_of_Economic_Development_Map_1973_
Description:
Single Fused Map Cache: false
Extent:
XMin: 1.2144470523514165E7
YMin: 3366586.609666541
XMax: 1.2257910523514165E7
YMax: 3513416.609666541
Spatial Reference: 2925
(2925)
LatestVCSWkid(0)
Initial Extent:
XMin: 1.2144470523514165E7
YMin: 3366586.609666541
XMax: 1.2257910523514165E7
YMax: 3513416.609666541
Spatial Reference: 2925
(2925)
LatestVCSWkid(0)
Full Extent:
XMin: 1.2144470523514165E7
YMin: 3366586.609666541
XMax: 1.2257910523514165E7
YMax: 3513416.609666541
Spatial Reference: 2925
(2925)
LatestVCSWkid(0)
Pixel Size X: 10.0
Pixel Size Y: 10.0
Band Count: 3
Pixel Type: U8
RasterFunction Infos: {"rasterFunctionInfos": [{
"name": "None",
"description": "",
"help": ""
}]}
Mensuration Capabilities: Basic
Inspection Capabilities:
Has Histograms: true
Has Colormap: false
Has Multi Dimensions : false
Rendering Rule:
Min Scale: 0
Max Scale: 0
Copyright Text:
Service Data Type: esriImageServiceDataTypeRGB
Min Values: 0, 0, 0
Max Values: 255, 255, 255
Mean Values: 219.94915674786, 222.05242484277, 225.84414827042
Standard Deviation Values: 39.932474147156, 41.657808898268, 43.81506004369
Object ID Field:
Fields:
None
Default Mosaic Method: Center
Allowed Mosaic Methods:
SortField:
SortValue: null
Mosaic Operator: First
Default Compression Quality: 75
Default Resampling Method: Bilinear
Max Record Count: null
Max Image Height: 4100
Max Image Width: 15000
Max Download Image Count: null
Max Mosaic Image Count: null
Allow Raster Function: true
Allow Copy: true
Allow Analysis: true
Allow Compute TiePoints: false
Supports Statistics: false
Supports Advanced Queries: false
Use StandardizedQueries: true
Raster Type Infos:
Name: Raster Dataset
Description: Supports all ArcGIS Raster Datasets
Help:
Has Raster Attribute Table: false
Edit Fields Info: null
Ownership Based AccessControl For Rasters: null
Child Resources:
Info
Histograms
Statistics
Key Properties
Legend
Raster Function Infos
Supported Operations:
Export Image
Identify
Measure
Compute Histograms
Compute Statistics Histograms
Get Samples
Compute Class Statistics
Query Boundary
Compute Pixel Location
Compute Angles
Validate
Project