View In:
ArcGIS JavaScript
ArcGIS Online Map Viewer
ArcGIS Earth
Service Description: FD10SLR1p5 – 10-yr with 1.5 ft. Disclaimer: The data displayed in this application are just computer models that depict certain design storms for illustrative purposes only and cannot and should not be relied upon as accurately predicting specific impacts of actual future storm or flooding events.
Name: Flooding/FD10SLR1p5
Description: FD10SLR1p5 – 10-yr with 1.5 ft. Disclaimer: The data displayed in this application are just computer models that depict certain design storms for illustrative purposes only and cannot and should not be relied upon as accurately predicting specific impacts of actual future storm or flooding events.
Single Fused Map Cache: false
Extent:
XMin: 1.2144995978486015E7
YMin: 3367881.8311364204
XMax: 1.2256109978486015E7
YMax: 3508263.8311364204
Spatial Reference: 102747
(2284)
LatestVCSWkid(0)
Initial Extent:
XMin: 1.2144995978486015E7
YMin: 3367881.8311364204
XMax: 1.2256109978486015E7
YMax: 3508263.8311364204
Spatial Reference: 102747
(2284)
LatestVCSWkid(0)
Full Extent:
XMin: 1.2144995978486015E7
YMin: 3367881.8311364204
XMax: 1.2256109978486015E7
YMax: 3508263.8311364204
Spatial Reference: 102747
(2284)
LatestVCSWkid(0)
Pixel Size X: 6.0
Pixel Size Y: 6.0
Band Count: 1
Pixel Type: F32
RasterFunction Infos: {"rasterFunctionInfos": [
{
"name": "VB Flood Color Ramp",
"description": "VB Flood Color Ramp",
"help": ""
},
{
"name": "None",
"description": "",
"help": ""
}
]}
Mensuration Capabilities: Basic
Inspection Capabilities:
Has Histograms: true
Has Colormap: false
Has Multi Dimensions : false
Rendering Rule:
Min Scale: 0
Max Scale: 0
Resampling: false
Copyright Text: © City of Virginia Beach
Service Data Type: esriImageServiceDataTypeGeneric
Min Values: -139.79794311523438
Max Values: 45.23154830932617
Mean Values: -1.0399629759500912
Standard Deviation Values: 5.40569136537206
Object ID Field:
Fields:
None
Default Mosaic Method: Center
Allowed Mosaic Methods:
SortField:
SortValue: null
Mosaic Operator: First
Default Compression Quality: 75
Default Resampling Method: Bilinear
Max Record Count: null
Max Image Height: 4100
Max Image Width: 15000
Max Download Image Count: null
Max Mosaic Image Count: null
Allow Raster Function: true
Allow Copy: true
Allow Analysis: true
Allow Compute TiePoints: false
Supports Statistics: false
Supports Advanced Queries: false
Use StandardizedQueries: true
Raster Type Infos:
Name: Raster Dataset
Description: Supports all ArcGIS Raster Datasets
Help:
Has Raster Attribute Table: false
Edit Fields Info: null
Ownership Based AccessControl For Rasters: null
Child Resources:
Info
Histograms
Statistics
Key Properties
Legend
Raster Function Infos
Supported Operations:
Export Image
Identify
Measure
Compute Histograms
Compute Statistics Histograms
Get Samples
Compute Class Statistics
Query Boundary
Compute Pixel Location
Compute Angles
Validate
Project