View In:
ArcGIS JavaScript
ArcGIS Online Map Viewer
ArcGIS Earth
Service Description: Imagery was Captured on July 8, 2025 at an altitude of of 250'. Horizontal accuracy cannot be guaranteed and does not meet the requirements for survey quality data; images are the property of the City of Virginia Beach Public Works Operations ©2025.
Name: Drone_Imagery/Pleasure_House_Point_20250708
Description:
Single Fused Map Cache: false
Extent:
XMin: 401677.18214134546
YMin: 4084305.99187702
XMax: 402353.4589968142
YMax: 4084940.001429022
Spatial Reference: 32618
(32618)
VCSWkid(5773)
LatestVCSWkid(5773)
Initial Extent:
XMin: 401677.18214134546
YMin: 4084305.99187702
XMax: 402353.4589968142
YMax: 4084940.001429022
Spatial Reference: 32618
(32618)
VCSWkid(5773)
LatestVCSWkid(5773)
Full Extent:
XMin: 401677.18214134546
YMin: 4084305.99187702
XMax: 402353.4589968142
YMax: 4084940.001429022
Spatial Reference: 32618
(32618)
VCSWkid(5773)
LatestVCSWkid(5773)
Pixel Size X: 0.02113365173339844
Pixel Size Y: 0.02113365173339844
Band Count: 3
Pixel Type: U8
RasterFunction Infos: {"rasterFunctionInfos": [{
"name": "None",
"description": "",
"help": ""
}]}
Mensuration Capabilities: Basic
Inspection Capabilities:
Has Histograms: true
Has Colormap: false
Has Multi Dimensions : false
Rendering Rule:
Min Scale: 0
Max Scale: 0
Copyright Text: City of Virginia Beach Public Works Operations ©2025
Service Data Type: esriImageServiceDataTypeRGB
Min Values: 1, 1, 1
Max Values: 254, 254, 254
Mean Values: 131.23485000316, 135.84660261595, 113.22180135503
Standard Deviation Values: 48.488792088397, 39.385096530736, 44.923639564992
Object ID Field:
Fields:
None
Default Mosaic Method: Center
Allowed Mosaic Methods:
SortField:
SortValue: null
Mosaic Operator: First
Default Compression Quality: 75
Default Resampling Method: Bilinear
Max Record Count: null
Max Image Height: 4100
Max Image Width: 15000
Max Download Image Count: null
Max Mosaic Image Count: null
Allow Raster Function: true
Allow Copy: true
Allow Analysis: true
Allow Compute TiePoints: false
Supports Statistics: false
Supports Advanced Queries: false
Use StandardizedQueries: true
Raster Type Infos:
Name: Raster Dataset
Description: Supports all ArcGIS Raster Datasets
Help:
Has Raster Attribute Table: false
Edit Fields Info: null
Ownership Based AccessControl For Rasters: null
Child Resources:
Info
Histograms
Statistics
Key Properties
Legend
Raster Function Infos
Supported Operations:
Export Image
Identify
Measure
Compute Histograms
Compute Statistics Histograms
Get Samples
Compute Class Statistics
Query Boundary
Compute Pixel Location
Compute Angles
Validate
Project