View In:
ArcGIS JavaScript
ArcGIS Online Map Viewer
ArcGIS Earth
Service Description: Imagery was Captured on January 28, 2025 at a height of 250'. Horizontal accuracy cannot be guaranteed and does not meet the requirements for survey quality data; images are the property of the City of Virginia Beach Public Works Operations ©2025.
Name: Drone_Imagery/BOW_CREEK_20250128
Description:
Single Fused Map Cache: false
Extent:
XMin: 402168.405811895
YMin: 4074827.1630896023
XMax: 403705.4086787058
YMax: 4076115.2422991116
Spatial Reference: 32618
(32618)
VCSWkid(5773)
LatestVCSWkid(5773)
Initial Extent:
XMin: 402168.405811895
YMin: 4074827.1630896023
XMax: 403705.4086787058
YMax: 4076115.2422991116
Spatial Reference: 32618
(32618)
VCSWkid(5773)
LatestVCSWkid(5773)
Full Extent:
XMin: 402168.405811895
YMin: 4074827.1630896023
XMax: 403705.4086787058
YMax: 4076115.2422991116
Spatial Reference: 32618
(32618)
VCSWkid(5773)
LatestVCSWkid(5773)
Pixel Size X: 0.020346874064215356
Pixel Size Y: 0.02034687406421675
Band Count: 3
Pixel Type: U8
RasterFunction Infos: {"rasterFunctionInfos": [{
"name": "None",
"description": "Make a Raster or Raster Dataset into a Function Raster Dataset.",
"help": ""
}]}
Mensuration Capabilities: Basic
Inspection Capabilities:
Has Histograms: true
Has Colormap: false
Has Multi Dimensions : false
Rendering Rule:
Min Scale: 0
Max Scale: 0
Copyright Text: City of Virginia Beach Public Works Operations ©2025
Service Data Type: esriImageServiceDataTypeRGB
Min Values: 1, 1, 1
Max Values: 255, 255, 255
Mean Values: 142.26329382764, 135.91229366639, 123.08572266724
Standard Deviation Values: 61.943762896475, 56.070910704064, 54.683011453461
Object ID Field:
Fields:
None
Default Mosaic Method: Center
Allowed Mosaic Methods:
SortField:
SortValue: null
Mosaic Operator: First
Default Compression Quality: 75
Default Resampling Method: Bilinear
Max Record Count: null
Max Image Height: 4100
Max Image Width: 15000
Max Download Image Count: null
Max Mosaic Image Count: null
Allow Raster Function: true
Allow Copy: true
Allow Analysis: true
Allow Compute TiePoints: false
Supports Statistics: false
Supports Advanced Queries: false
Use StandardizedQueries: true
Raster Type Infos:
Name: Raster Dataset
Description: Supports all ArcGIS Raster Datasets
Help:
Has Raster Attribute Table: false
Edit Fields Info: null
Ownership Based AccessControl For Rasters: null
Child Resources:
Info
Histograms
Statistics
Key Properties
Legend
Raster Function Infos
Supported Operations:
Export Image
Identify
Measure
Compute Histograms
Compute Statistics Histograms
Get Samples
Compute Class Statistics
Query Boundary
Compute Pixel Location
Compute Angles
Validate
Project