{
 "currentVersion": 11.5,
 "serviceDescription": "This layer is a high-resolution wetlands layer for Virginia Beach, Virginia. Three wetlands classes were mapped: (1) emergent wetlands, (2) shrub/scrub wetlands, and (3) forest wetlands at 1 Foot resolution. The primary sources used to derive this wetlands layer were 2024 LiDAR data and 2023 NAIP imagery. Wetlands were classed based on the average height of vegetation in the 2024 LiDAR. The emergent class represents wetlands where the average vegetation height ranged from 0-6ft. The shrub/scrub class represents wetlands where the average vegetation height ranged from 6ft - 20ft. The forest class represents wetlands where the average vegetation height is above 20ft. Mapping was carried out using an approach that integrated automated feature extraction with manual edits. Care was taken to ensure that changes to the tree canopy were due to actual change in the land cover as opposed to differences in the remotely sensed data stemming from lighting conditions or image parallax. The dataset was created using object-based image analysis (OBIA) and included similar source datasets (LiDAR-derived surface models, multispectral imagery, and thematic GIS inputs). OBIA systems work by grouping pixels into meaningful objects based on their spectral and spatial properties, while taking into account boundaries imposed by existing vector datasets. Within the OBIA environment a rule-based expert system was designed to effectively mimic the process of manual image analysis by incorporating the elements of image interpretation (color/tone, texture, pattern, location, size, and shape) into the classification process. A series of morphological procedures were employed to insure that the end product is both accurate and cartographically pleasing. No accuracy assessment was conducted, but the dataset was subjected to manual review and correction.",
 "name": "Land_Cover/Wetlands_2024",
 "description": "This layer is a high-resolution wetlands layer for Virginia Beach, Virginia. Three wetlands classes were mapped: (1) emergent wetlands, (2) shrub/scrub wetlands, and (3) forest wetlands at 1 Foot resolution. The primary sources used to derive this wetlands layer were 2024 LiDAR data and 2023 NAIP imagery. Wetlands were classed based on the average height of vegetation in the 2024 LiDAR. The emergent class represents wetlands where the average vegetation height ranged from 0-6ft. The shrub/scrub class represents wetlands where the average vegetation height ranged from 6ft - 20ft. The forest class represents wetlands where the average vegetation height is above 20ft. Mapping was carried out using an approach that integrated automated feature extraction with manual edits. Care was taken to ensure that changes to the tree canopy were due to actual change in the land cover as opposed to differences in the remotely sensed data stemming from lighting conditions or image parallax. The dataset was created using object-based image analysis (OBIA) and included similar source datasets (LiDAR-derived surface models, multispectral imagery, and thematic GIS inputs). OBIA systems work by grouping pixels into meaningful objects based on their spectral and spatial properties, while taking into account boundaries imposed by existing vector datasets. Within the OBIA environment a rule-based expert system was designed to effectively mimic the process of manual image analysis by incorporating the elements of image interpretation (color/tone, texture, pattern, location, size, and shape) into the classification process. A series of morphological procedures were employed to insure that the end product is both accurate and cartographically pleasing. No accuracy assessment was conducted, but the dataset was subjected to manual review and correction.",
 "extent": {
  "xmin": 12144400,
  "ymin": 3366800,
  "xmax": 12260800,
  "ymax": 3512400,
  "spatialReference": {
   "wkid": 103177,
   "latestWkid": 6595
  }
 },
 "initialExtent": {
  "xmin": 12144400,
  "ymin": 3366800,
  "xmax": 12260800,
  "ymax": 3512400,
  "spatialReference": {
   "wkid": 103177,
   "latestWkid": 6595
  }
 },
 "fullExtent": {
  "xmin": 12144400,
  "ymin": 3366800,
  "xmax": 12260800,
  "ymax": 3512400,
  "spatialReference": {
   "wkid": 103177,
   "latestWkid": 6595
  }
 },
 "sortableFields": "",
 "bandCount": 1,
 "pixelType": "U8",
 "minValues": [
  0
 ],
 "maxValues": [
  3
 ],
 "meanValues": [
  0.22248082534654
 ],
 "stdvValues": [
  0.6998145488445
 ],
 "serviceProperties": "Center<\/MosaicMethod>First<\/MosaicOperator>true<\/SortAscending><\/LockImageID><\/TileOrderField>0<\/TileOrderBase>0.000000<\/AvgImageSpacingX>0.000000<\/AvgImageSpacingY>0.0<\/ViewPointX>0.0<\/ViewPointY>0.0<\/ViewPointDefShiftX>0.0<\/ViewPointDefShiftY>None<\/CompressionMethod>75<\/CompressionQuality>0.010000<\/CompressionTolerance>Bilinear<\/SamplingMethod><\/ImageServiceProperties><\/ImageServer>",
 "allowedFields": "",
 "hasMultidimensions": false,
 "pixelSizeX": 1,
 "pixelSizeY": 1,
 "meanPixelSize": 0.30480060960121924,
 "datasetFormat": "TIFF",
 "uncompressedSize": 16947840000,
 "blockWidth": 116400,
 "blockHeight": 10,
 "compressionType": "LZW",
 "bandNames": [
  "Band_1"
 ],
 "allowCopy": true,
 "allowAnalysis": true,
 "itemAccess": false,
 "inspectionCapabilities": "",
 "minPixelSize": 0,
 "maxPixelSize": 0,
 "copyrightText": "University of Vermont Spatial Analysis Laboratory in collaboration with Virginia Beach.",
 "serviceDataType": "esriImageServiceDataTypeGeneric",
 "serviceSourceType": "esriImageServiceSourceTypeDataset",
 "objectIdField": "",
 "fields": [],
 "capabilities": "Image,Metadata,Mensuration",
 "defaultMosaicMethod": "Center",
 "allowedMosaicMethods": "",
 "sortField": "",
 "sortValue": null,
 "sortAscending": true,
 "mosaicOperator": "First",
 "defaultCompressionQuality": 75,
 "defaultResamplingMethod": "Bilinear",
 "maxImageHeight": 4100,
 "maxImageWidth": 15000,
 "allowRasterFunction": true,
 "rasterFunctionInfos": [
  {
   "name": "VBWetlands_2024",
   "description": "Raster Fucntion tempalte for 2024 wetlands layer",
   "help": ""
  },
  {
   "name": "VBWetlands_2018",
   "description": "Raster Function Template for 2018 Wetlands.",
   "help": ""
  },
  {
   "name": "None",
   "description": "",
   "help": ""
  }
 ],
 "rasterTypeInfos": [
  {
   "name": "Raster Dataset",
   "description": "Supports all ArcGIS Raster Datasets",
   "help": ""
  }
 ],
 "mensurationCapabilities": "Basic",
 "hasHistograms": true,
 "hasColormap": false,
 "hasRasterAttributeTable": true,
 "minScale": 0,
 "maxScale": 0,
 "exportTilesAllowed": false,
 "supportsStatistics": false,
 "supportsAdvancedQueries": false,
 "editFieldsInfo": null,
 "ownershipBasedAccessControlForRasters": null,
 "allowComputeTiePoints": false,
 "useStandardizedQueries": true,
 "advancedQueryCapabilities": {
  "useStandardizedQueries": true,
  "supportsStatistics": false,
  "supportsOrderBy": false,
  "supportsDistinct": false,
  "supportsPagination": false
 },
 "spatialReference": {
  "wkid": 103177,
  "latestWkid": 6595
 }
}
