<?xml version="1.0" encoding="UTF-8" standalone="no"?>
<metadata xml:lang="en">
<Esri>
<CreaDate>20260709</CreaDate>
<CreaTime>10235100</CreaTime>
<ArcGISFormat>1.0</ArcGISFormat>
<SyncOnce>FALSE</SyncOnce>
<DataProperties>
<itemProps>
<itemName Sync="TRUE">Wetlands_2018_VirginiaBeach_VA.tif</itemName>
<nativeExtBox>
<westBL Sync="TRUE">12148152.440047</westBL>
<eastBL Sync="TRUE">12255708.440047</eastBL>
<southBL Sync="TRUE">3368795.040022</southBL>
<northBL Sync="TRUE">3507611.040022</northBL>
<exTypeCode Sync="TRUE">1</exTypeCode>
</nativeExtBox>
<imsContentType Sync="TRUE">002</imsContentType>
</itemProps>
<coordRef>
<type Sync="TRUE">Projected</type>
<geogcsn Sync="TRUE">GCS_NAD_1983_2011</geogcsn>
<csUnits Sync="TRUE">Linear Unit: Foot_US (0.304801)</csUnits>
<projcsn Sync="TRUE">NAD_1983_2011_StatePlane_Virginia_South_FIPS_4502_Ft_US</projcsn>
<peXml Sync="TRUE">&lt;ProjectedCoordinateSystem xsi:type='typens:ProjectedCoordinateSystem' xmlns:xsi='http://www.w3.org/2001/XMLSchema-instance' xmlns:xs='http://www.w3.org/2001/XMLSchema' xmlns:typens='http://www.esri.com/schemas/ArcGIS/3.5.0'&gt;&lt;WKT&gt;PROJCS[&amp;quot;NAD_1983_2011_StatePlane_Virginia_South_FIPS_4502_Ft_US&amp;quot;,GEOGCS[&amp;quot;GCS_NAD_1983_2011&amp;quot;,DATUM[&amp;quot;D_NAD_1983_2011&amp;quot;,SPHEROID[&amp;quot;GRS_1980&amp;quot;,6378137.0,298.257222101]],PRIMEM[&amp;quot;Greenwich&amp;quot;,0.0],UNIT[&amp;quot;Degree&amp;quot;,0.0174532925199433]],PROJECTION[&amp;quot;Lambert_Conformal_Conic&amp;quot;],PARAMETER[&amp;quot;False_Easting&amp;quot;,11482916.66666666],PARAMETER[&amp;quot;False_Northing&amp;quot;,3280833.333333333],PARAMETER[&amp;quot;Central_Meridian&amp;quot;,-78.5],PARAMETER[&amp;quot;Standard_Parallel_1&amp;quot;,36.76666666666667],PARAMETER[&amp;quot;Standard_Parallel_2&amp;quot;,37.96666666666667],PARAMETER[&amp;quot;Latitude_Of_Origin&amp;quot;,36.33333333333334],UNIT[&amp;quot;Foot_US&amp;quot;,0.3048006096012192],AUTHORITY[&amp;quot;EPSG&amp;quot;,6595]]&lt;/WKT&gt;&lt;XOrigin&gt;-111140600&lt;/XOrigin&gt;&lt;YOrigin&gt;-91532100&lt;/YOrigin&gt;&lt;XYScale&gt;36727036.750856541&lt;/XYScale&gt;&lt;ZOrigin&gt;-100000&lt;/ZOrigin&gt;&lt;ZScale&gt;10000&lt;/ZScale&gt;&lt;MOrigin&gt;-100000&lt;/MOrigin&gt;&lt;MScale&gt;10000&lt;/MScale&gt;&lt;XYTolerance&gt;0.0032808333333333331&lt;/XYTolerance&gt;&lt;ZTolerance&gt;0.001&lt;/ZTolerance&gt;&lt;MTolerance&gt;0.001&lt;/MTolerance&gt;&lt;HighPrecision&gt;true&lt;/HighPrecision&gt;&lt;WKID&gt;103177&lt;/WKID&gt;&lt;LatestWKID&gt;6595&lt;/LatestWKID&gt;&lt;/ProjectedCoordinateSystem&gt;</peXml>
</coordRef>
<RasterProperties>
<General>
<PixelDepth Sync="TRUE">4</PixelDepth>
<HasColormap Sync="TRUE">FALSE</HasColormap>
<CompressionType Sync="TRUE">LZW</CompressionType>
<NumBands Sync="TRUE">1</NumBands>
<Format Sync="TRUE">TIFF</Format>
<HasPyramids Sync="TRUE">TRUE</HasPyramids>
<SourceType Sync="TRUE">continuous</SourceType>
<PixelType Sync="TRUE">unsigned integer</PixelType>
<NoDataValue Sync="TRUE">0</NoDataValue>
</General>
</RasterProperties>
</DataProperties>
<SyncDate>20260630</SyncDate>
<SyncTime>18290200</SyncTime>
<ModDate>20260630</ModDate>
<ModTime>18313000</ModTime>
<scaleRange>
<minScale>150000000</minScale>
<maxScale>5000</maxScale>
</scaleRange>
<ArcGISProfile>FGDC</ArcGISProfile>
</Esri>
<mdChar>
<CharSetCd value="004">
</CharSetCd>
</mdChar>
<mdHrLv>
<ScopeCd value="005">
</ScopeCd>
</mdHrLv>
<mdContact>
<rpIndName>Paige Brochu</rpIndName>
<rpOrgName>University of Vermont Spatial Analysis Laboratory</rpOrgName>
<rpPosName>Director</rpPosName>
<rpCntInfo>
<cntPhone>
<voiceNum>802-656-3324</voiceNum>
<faxNum>802-656-8683</faxNum>
</cntPhone>
<cntAddress addressType="both">
<delPoint>Aiken Room 205</delPoint>
<delPoint>81 Carrigan Drive</delPoint>
<city>Burlington</city>
<adminArea>VT</adminArea>
<postCode>05405</postCode>
<country>US</country>
<eMailAdd>Paige.Brochu@uvm.edu</eMailAdd>
</cntAddress>
</rpCntInfo>
<role>
<RoleCd value="007">
</RoleCd>
</role>
</mdContact>
<mdDateSt Sync="TRUE">20260630</mdDateSt>
<mdStanName>ArcGIS Metadata</mdStanName>
<mdStanVer>1.0</mdStanVer>
<dataIdInfo>
<idCitation>
<resTitle>Wetlands_2018</resTitle>
<date>
<pubDate>2026-06-30</pubDate>
</date>
<citRespParty>
<rpOrgName>University of Vermont Spatial Analysis Laboratory</rpOrgName>
<role>
<RoleCd value="006">
</RoleCd>
</role>
</citRespParty>
<presForm>
<PresFormCd value="005">
</PresFormCd>
</presForm>
<presForm>
<fgdcGeoform>remote-sensing image</fgdcGeoform>
</presForm>
</idCitation>
<idAbs>&lt;div style='text-align:Left;'&gt;&lt;div&gt;&lt;p&gt;&lt;span&gt;This layer is a high-resolution wetlands layer for Virginia Beach, Virginia. Three wetlands classes were mapped: (1) emergent wetlands, (2) , forest wetlands and (3) shrub/scrub wetlands at 3 Foot resolution. The primary sources used to derive this wetlands layer were 2018 LiDAR data and 2018 NAIP imagery. Wetlands were classed based on the average height of vegetation in the 2018 LiDAR. The emergent class represents wetlands where the average vegetation height ranged from 0-6ft. The shrub/scrub class represents wetlands where the average vegetation height ranged from 6ft - 20ft. The forest class represents wetlands where the average vegetation height is above 20ft. Mapping was carried out using an approach that integrated automated feature extraction with manual edits. Care was taken to ensure that changes to the tree canopy were due to actual change in the land cover as opposed to differences in the remotely sensed data stemming from lighting conditions or image parallax. The dataset was created using object-based image analysis (OBIA) and included similar source datasets (LiDAR-derived surface models, multispectral imagery, and thematic GIS inputs). OBIA systems work by grouping pixels into meaningful objects based on their spectral and spatial properties, while taking into account boundaries imposed by existing vector datasets. Within the OBIA environment a rule-based expert system was designed to effectively mimic the process of manual image analysis by incorporating the elements of image interpretation (color/tone, texture, pattern, location, size, and shape) into the classification process. A series of morphological procedures were employed to insure that the end product is both accurate and cartographically pleasing. No accuracy assessment was conducted, but the dataset was subjected to manual review and correction.&lt;/span&gt;&lt;/p&gt;&lt;/div&gt;&lt;/div&gt;</idAbs>
<idPurp>This dataset was developed as part of an Urban Tree Canopy (UTC) assessment for Virginia Beach, Virginia.</idPurp>
<idCredit>University of Vermont Spatial Analysis Laboratory in collaboration with Virginia Beach.</idCredit>
<idStatus>
<ProgCd value="001">
</ProgCd>
</idStatus>
<resMaint>
<maintFreq>
<MaintFreqCd value="011">
</MaintFreqCd>
</maintFreq>
</resMaint>
<themeKeys>
<keyword>imageryBaseMapsEarthCover</keyword>
<keyword>wetlands</keyword>
<keyword>urban</keyword>
</themeKeys>
<searchKeys>
<keyword>imageryBaseMapsEarthCover</keyword>
<keyword>wetlands</keyword>
<keyword>urban</keyword>
</searchKeys>
<spatRpType>
<SpatRepTypCd value="002">
</SpatRepTypCd>
</spatRpType>
<dataExt>
<exDesc>Dataset represents wetlands within the boundary of Virginia Beach, Virginia for 2018.</exDesc>
<tempEle>
<TempExtent>
<exTemp>
<TM_Period>
<tmBegin>1009</tmBegin>
<tmEnd>2018-10-09</tmEnd>
</TM_Period>
</exTemp>
</TempExtent>
</tempEle>
</dataExt>
<suppInfo>This assessment was completed by the University of Vermont's Spatial Analysis Laboratory with funding from the Virginia Beach. The methods used were developed by the University of Vermont Spatial Analysis Laboratory in partnership with the USDA Forest Service. Tree canopy assessments have been conducted for numerous communities throughout the U.S. where the results have been instrumental in helping to establishing tree canopy goals.</suppInfo>
<envirDesc Sync="FALSE">Esri ArcGIS 13.5.2.57366</envirDesc>
<dataLang>
<languageCode Sync="TRUE" value="eng">
</languageCode>
<countryCode Sync="TRUE" value="USA">
</countryCode>
</dataLang>
<dataExt>
<geoEle>
<GeoBndBox esriExtentType="search">
<exTypeCode Sync="TRUE">1</exTypeCode>
<westBL Sync="TRUE">-76.235123</westBL>
<eastBL Sync="TRUE">-75.855878</eastBL>
<northBL Sync="TRUE">36.934169</northBL>
<southBL Sync="TRUE">36.545347</southBL>
</GeoBndBox>
</geoEle>
</dataExt>
<tpCat>
<TopicCatCd value="010">
</TopicCatCd>
</tpCat>
</dataIdInfo>
<dqInfo>
<dqScope>
<scpLvl>
<ScopeCd value="005">
</ScopeCd>
</scpLvl>
</dqScope>
<report type="DQQuanAttAcc">
<measDesc>No accuracy assessment was conducted, but the dataset was subject to a thorough manual quality control (QC). Accuracy assessments from previous UTC land cover datasets indicate that the use OBIA techniques in combination with a detailed QC yield an overall accuracy of 95% or better.</measDesc>
</report>
<report type="DQConcConsis">
<measDesc>Valid raster dataset.</measDesc>
</report>
<report type="DQCompOm">
<measDesc>Complete coverage for the study area using the most recent boundary data.</measDesc>
</report>
<dataLineage>
<dataSource>
<srcDesc>2018 Land Cover raster developed as part of the same project for which the current Wetlands dataset was created.</srcDesc>
<srcMedName>
<MedNameCd value="031">
</MedNameCd>
</srcMedName>
<srcCitatn>
<resTitle>2018 Wetlands for Virginia Beach, Virginia</resTitle>
<resAltTitle>Wetlands_2018_VirginiaBeach_VA.tif</resAltTitle>
</srcCitatn>
</dataSource>
<prcStep>
<stepDesc>Automated feature extraction using eCognition.</stepDesc>
<stepDateTm>2026-05-27</stepDateTm>
</prcStep>
<prcStep>
<stepDesc>Manual corrections made using photo interpretation between imagery and lidar data to classify wetlands</stepDesc>
<stepDateTm>2026-06-24</stepDateTm>
</prcStep>
</dataLineage>
</dqInfo>
<eainfo>
<detailed Name="Wetlands_2018_VirginiaBeach_VA.tif.vat">
<enttyp>
<enttypl>Wetlands_2018_VirginiaBeach_VA.tif</enttypl>
<enttypt Sync="TRUE">Table</enttypt>
<enttypc Sync="TRUE">3</enttypc>
</enttyp>
<attr>
<attrlabl Sync="TRUE">OID</attrlabl>
<attalias Sync="TRUE">OID</attalias>
<attrtype Sync="TRUE">OID</attrtype>
<attwidth Sync="TRUE">4</attwidth>
<atprecis Sync="TRUE">0</atprecis>
<attscale Sync="TRUE">0</attscale>
<attrdef Sync="TRUE">Internal feature number.</attrdef>
<attrdefs Sync="TRUE">Esri</attrdefs>
<attrdomv>
<udom Sync="TRUE">Sequential unique whole numbers that are automatically generated.</udom>
</attrdomv>
</attr>
<attr>
<attrlabl>Value</attrlabl>
<attrdef>Tree-canopy change classes</attrdef>
<attrdefs>University of Vermont Spatial Analysis Laboratory</attrdefs>
<attrdomv>
<edom>
<edomv>1</edomv>
<edomvd>Emergent Wetlands</edomvd>
<edomvds>University of Vermont Spatial Analysis Laboratory</edomvds>
</edom>
</attrdomv>
<attrdomv>
<edom>
<edomv>2</edomv>
<edomvd>Forest Wetlands</edomvd>
<edomvds>University of Vermont Spatial Analysis Laboratory</edomvds>
</edom>
</attrdomv>
<attrdomv>
<edom>
<edomv>3</edomv>
<edomvd>Shrub/Scrub Wetlands</edomvd>
<edomvds>University of Vermont Spatial Analysis Laboratory</edomvds>
</edom>
</attrdomv>
<attalias Sync="TRUE">Value</attalias>
<attrtype Sync="TRUE">Integer</attrtype>
<attwidth Sync="TRUE">10</attwidth>
<atprecis Sync="TRUE">10</atprecis>
<attscale Sync="TRUE">0</attscale>
</attr>
<attr>
<attrlabl>Count</attrlabl>
<attrdef># pixels per tree canopy change class</attrdef>
<attrdefs>Internal</attrdefs>
<attrdomv>
<udom>Number of pixels per wetlands class</udom>
</attrdomv>
<attalias Sync="TRUE">Count</attalias>
<attrtype Sync="TRUE">Double</attrtype>
<attwidth Sync="TRUE">19</attwidth>
<atprecis Sync="TRUE">0</atprecis>
<attscale Sync="TRUE">0</attscale>
</attr>
<attr>
<attrlabl Sync="TRUE">Class</attrlabl>
<attalias Sync="TRUE">Class</attalias>
<attrtype Sync="TRUE">String</attrtype>
<attwidth Sync="TRUE">254</attwidth>
<atprecis Sync="TRUE">0</atprecis>
<attscale Sync="TRUE">0</attscale>
</attr>
</detailed>
</eainfo>
<mdLang>
<languageCode Sync="TRUE" value="eng">
</languageCode>
<countryCode Sync="TRUE" value="USA">
</countryCode>
</mdLang>
<distInfo>
<distFormat>
<formatName Sync="TRUE">Raster Dataset</formatName>
</distFormat>
</distInfo>
<mdHrLvName Sync="TRUE">dataset</mdHrLvName>
<refSysInfo>
<RefSystem>
<refSysID>
<identCode Sync="TRUE" code="6595">
</identCode>
<idCodeSpace Sync="TRUE">EPSG</idCodeSpace>
<idVersion Sync="TRUE">8.2.10(10.3.1)</idVersion>
</refSysID>
</RefSystem>
</refSysInfo>
<spatRepInfo>
<Georect>
<cellGeo>
<CellGeoCd Sync="TRUE" value="002">
</CellGeoCd>
</cellGeo>
<numDims Sync="TRUE">2</numDims>
<tranParaAv Sync="TRUE">1</tranParaAv>
<chkPtAv Sync="TRUE">0</chkPtAv>
<cornerPts>
<pos Sync="TRUE">12148152.440047 3368795.040022</pos>
</cornerPts>
<cornerPts>
<pos Sync="TRUE">12148152.440047 3507611.040022</pos>
</cornerPts>
<cornerPts>
<pos Sync="TRUE">12255708.440047 3507611.040022</pos>
</cornerPts>
<cornerPts>
<pos Sync="TRUE">12255708.440047 3368795.040022</pos>
</cornerPts>
<centerPt>
<pos Sync="TRUE">12201930.440047 3438203.040022</pos>
</centerPt>
<axisDimension type="002">
<dimSize Sync="TRUE">35852</dimSize>
<dimResol>
<value Sync="TRUE" uom="ftUS">3.000000</value>
</dimResol>
</axisDimension>
<axisDimension type="001">
<dimSize Sync="TRUE">46272</dimSize>
<dimResol>
<value Sync="TRUE" uom="ftUS">3.000000</value>
</dimResol>
</axisDimension>
<ptInPixel>
<PixOrientCd Sync="TRUE" value="001">
</PixOrientCd>
</ptInPixel>
</Georect>
</spatRepInfo>
<contInfo>
<ImgDesc>
<contentTyp>
<ContentTypCd Sync="TRUE" value="001">
</ContentTypCd>
</contentTyp>
<covDim>
<Band>
<dimDescrp Sync="TRUE">Band_1</dimDescrp>
<maxVal Sync="TRUE">3.000000</maxVal>
<minVal Sync="TRUE">1.000000</minVal>
<bitsPerVal Sync="TRUE">4</bitsPerVal>
<valUnit>
<UOM type="length">
</UOM>
</valUnit>
</Band>
</covDim>
</ImgDesc>
</contInfo>
</metadata>
