{ "currentVersion": 11.5, "serviceDescription": "

High resolution land cover dataset for Virginia Beach, Virginia (vector format produced from 0.5 Foot raster land cover). Seven land cover classes were mapped: (1) tree canopy, (2) grass/shrub, (3) bare earth, (4) water, (5) buildings, (6) roads, and (7) other paved surfaces. The primary sources used to derive this land cover layer were 2024 LiDAR data and 2023 NAIP imagery. Ancillary data sources included GIS data provided by Virginia Beach, Virginia or created by the UVM Spatial Analysis Laboratory. Object-based image analysis techniques (OBIA) were employed to extract land cover information using the best available remotely sensed and vector GIS datasets. OBIA systems work by grouping pixels into meaningful objects based on their spectral and spatial properties, while taking into account boundaries imposed by existing vector datasets. Within the OBIA environment a rule-based expert system was designed to effectively mimic the process of manual image analysis by incorporating the elements of image interpretation (color/tone, texture, pattern, location, size, and shape) into the classification process. A series of morphological procedures were employed to insure that the end product is both accurate and cartographically pleasing. Following the automated OBIA mapping a detailed manual review of the dataset was carried out at a scale of 2500 and all observable errors were corrected.<\/span><\/p><\/div><\/div>", "name": "Land_Cover/Land_Cover_2024", "description": "

High resolution land cover dataset for Virginia Beach, Virginia (vector format produced from 0.5 Foot raster land cover). Seven land cover classes were mapped: (1) tree canopy, (2) grass/shrub, (3) bare earth, (4) water, (5) buildings, (6) roads, and (7) other paved surfaces. The primary sources used to derive this land cover layer were 2024 LiDAR data and 2023 NAIP imagery. Ancillary data sources included GIS data provided by Virginia Beach, Virginia or created by the UVM Spatial Analysis Laboratory. Object-based image analysis techniques (OBIA) were employed to extract land cover information using the best available remotely sensed and vector GIS datasets. OBIA systems work by grouping pixels into meaningful objects based on their spectral and spatial properties, while taking into account boundaries imposed by existing vector datasets. Within the OBIA environment a rule-based expert system was designed to effectively mimic the process of manual image analysis by incorporating the elements of image interpretation (color/tone, texture, pattern, location, size, and shape) into the classification process. A series of morphological procedures were employed to insure that the end product is both accurate and cartographically pleasing. Following the automated OBIA mapping a detailed manual review of the dataset was carried out at a scale of 2500 and all observable errors were corrected.<\/span><\/p><\/div><\/div>", "extent": { "xmin": 1.2147779080557063E7, "ymin": 3368711.354821831, "xmax": 1.2256113080557063E7, "ymax": 3508438.854821831, "spatialReference": { "wkid": 103177, "latestWkid": 6595 } }, "initialExtent": { "xmin": 1.2147779080557063E7, "ymin": 3368711.354821831, "xmax": 1.2256113080557063E7, "ymax": 3508438.854821831, "spatialReference": { "wkid": 103177, "latestWkid": 6595 } }, "fullExtent": { "xmin": 1.2147779080557063E7, "ymin": 3368711.354821831, "xmax": 1.2256113080557063E7, "ymax": 3508438.854821831, "spatialReference": { "wkid": 103177, "latestWkid": 6595 } }, "sortableFields": "", "bandCount": 1, "pixelType": "U8", "minValues": [ 0 ], "maxValues": [ 7 ], "meanValues": [ 1.557072038161 ], "stdvValues": [ 1.9399812438009 ], "serviceProperties": "Center<\/MosaicMethod>First<\/MosaicOperator>true<\/SortAscending><\/LockImageID><\/TileOrderField>0<\/TileOrderBase>0.000000<\/AvgImageSpacingX>0.000000<\/AvgImageSpacingY>0.0<\/ViewPointX>0.0<\/ViewPointY>0.0<\/ViewPointDefShiftX>0.0<\/ViewPointDefShiftY>None<\/CompressionMethod>75<\/CompressionQuality>0.010000<\/CompressionTolerance>Bilinear<\/SamplingMethod><\/ImageServiceProperties><\/ImageServer>", "allowedFields": "", "hasMultidimensions": false, "pixelSizeX": 0.5, "pixelSizeY": 0.5, "meanPixelSize": 0.15240030480060962, "datasetFormat": "TIFF", "uncompressedSize": 60548955940, "blockWidth": 216668, "blockHeight": 1, "compressionType": "None", "bandNames": [ "Band_1" ], "allowCopy": true, "allowAnalysis": true, "itemAccess": false, "inspectionCapabilities": "", "minPixelSize": 0, "maxPixelSize": 0, "copyrightText": "University of Vermont Spatial Analysis Laboratory in collaboration with Virginia Beach.", "serviceDataType": "esriImageServiceDataTypeGeneric", "serviceSourceType": "esriImageServiceSourceTypeDataset", "objectIdField": "", "fields": [], "capabilities": "Mensuration,Image,Metadata", "defaultMosaicMethod": "Center", "allowedMosaicMethods": "", "sortField": "", "sortValue": null, "sortAscending": true, "mosaicOperator": "First", "defaultCompressionQuality": 75, "defaultResamplingMethod": "Bilinear", "maxImageHeight": 4100, "maxImageWidth": 15000, "allowRasterFunction": true, "rasterFunctionInfos": [ { "name": "Land_Cover_2009_Symbolized", "description": "Land_Cover_2009_Symbolized", "help": "" }, { "name": "None", "description": "Make a Raster or Raster Dataset into a Function Raster Dataset.", "help": "" } ], "rasterTypeInfos": [ { "name": "Raster Dataset", "description": "Supports all ArcGIS Raster Datasets", "help": "" } ], "mensurationCapabilities": "Basic", "hasHistograms": true, "hasColormap": false, "hasRasterAttributeTable": true, "minScale": 0, "maxScale": 0, "exportTilesAllowed": false, "supportsStatistics": false, "supportsAdvancedQueries": false, "editFieldsInfo": null, "ownershipBasedAccessControlForRasters": null, "allowComputeTiePoints": false, "useStandardizedQueries": true, "advancedQueryCapabilities": { "useStandardizedQueries": true, "supportsStatistics": false, "supportsOrderBy": false, "supportsDistinct": false, "supportsPagination": false }, "spatialReference": { "wkid": 103177, "latestWkid": 6595 }, "resampling": false }