<?xml version="1.0" encoding="UTF-8" standalone="no"?>
<metadata xml:lang="en">
<Esri>
<CreaDate>20260401</CreaDate>
<CreaTime>14321000</CreaTime>
<ArcGISFormat>1.0</ArcGISFormat>
<SyncOnce>FALSE</SyncOnce>
<DataProperties>
<itemProps>
<itemName Sync="TRUE">LandCover7Class_2024_VirginaBeach_VA.tif</itemName>
<imsContentType Sync="TRUE">002</imsContentType>
<nativeExtBox>
<westBL Sync="TRUE">12147779.080557</westBL>
<eastBL Sync="TRUE">12256113.080557</eastBL>
<southBL Sync="TRUE">3368711.354822</southBL>
<northBL Sync="TRUE">3508438.854822</northBL>
<exTypeCode Sync="TRUE">1</exTypeCode>
</nativeExtBox>
</itemProps>
<coordRef>
<type Sync="TRUE">Projected</type>
<geogcsn Sync="TRUE">GCS_NAD_1983_2011</geogcsn>
<csUnits Sync="TRUE">Linear Unit: Foot_US (0.304801)</csUnits>
<projcsn Sync="TRUE">NAD_1983_2011_StatePlane_Virginia_South_FIPS_4502_Ft_US</projcsn>
<peXml Sync="TRUE">&lt;ProjectedCoordinateSystem xsi:type='typens:ProjectedCoordinateSystem' xmlns:xsi='http://www.w3.org/2001/XMLSchema-instance' xmlns:xs='http://www.w3.org/2001/XMLSchema' xmlns:typens='http://www.esri.com/schemas/ArcGIS/3.4.0'&gt;&lt;WKT&gt;PROJCS[&amp;quot;NAD_1983_2011_StatePlane_Virginia_South_FIPS_4502_Ft_US&amp;quot;,GEOGCS[&amp;quot;GCS_NAD_1983_2011&amp;quot;,DATUM[&amp;quot;D_NAD_1983_2011&amp;quot;,SPHEROID[&amp;quot;GRS_1980&amp;quot;,6378137.0,298.257222101]],PRIMEM[&amp;quot;Greenwich&amp;quot;,0.0],UNIT[&amp;quot;Degree&amp;quot;,0.0174532925199433]],PROJECTION[&amp;quot;Lambert_Conformal_Conic&amp;quot;],PARAMETER[&amp;quot;False_Easting&amp;quot;,11482916.66666666],PARAMETER[&amp;quot;False_Northing&amp;quot;,3280833.333333333],PARAMETER[&amp;quot;Central_Meridian&amp;quot;,-78.5],PARAMETER[&amp;quot;Standard_Parallel_1&amp;quot;,36.76666666666667],PARAMETER[&amp;quot;Standard_Parallel_2&amp;quot;,37.96666666666667],PARAMETER[&amp;quot;Latitude_Of_Origin&amp;quot;,36.33333333333334],UNIT[&amp;quot;Foot_US&amp;quot;,0.3048006096012192],AUTHORITY[&amp;quot;EPSG&amp;quot;,6595]]&lt;/WKT&gt;&lt;XOrigin&gt;-111140600&lt;/XOrigin&gt;&lt;YOrigin&gt;-91532100&lt;/YOrigin&gt;&lt;XYScale&gt;36727036.750856541&lt;/XYScale&gt;&lt;ZOrigin&gt;-100000&lt;/ZOrigin&gt;&lt;ZScale&gt;10000&lt;/ZScale&gt;&lt;MOrigin&gt;-100000&lt;/MOrigin&gt;&lt;MScale&gt;10000&lt;/MScale&gt;&lt;XYTolerance&gt;0.0032808333333333331&lt;/XYTolerance&gt;&lt;ZTolerance&gt;0.001&lt;/ZTolerance&gt;&lt;MTolerance&gt;0.001&lt;/MTolerance&gt;&lt;HighPrecision&gt;true&lt;/HighPrecision&gt;&lt;WKID&gt;103177&lt;/WKID&gt;&lt;LatestWKID&gt;6595&lt;/LatestWKID&gt;&lt;/ProjectedCoordinateSystem&gt;</peXml>
</coordRef>
<RasterProperties>
<General>
<PixelDepth Sync="TRUE">8</PixelDepth>
<HasColormap Sync="TRUE">FALSE</HasColormap>
<CompressionType Sync="TRUE">None</CompressionType>
<NumBands Sync="TRUE">1</NumBands>
<Format Sync="TRUE">TIFF</Format>
<HasPyramids Sync="TRUE">TRUE</HasPyramids>
<SourceType Sync="TRUE">continuous</SourceType>
<PixelType Sync="TRUE">unsigned integer</PixelType>
<NoDataValue Sync="TRUE">
</NoDataValue>
</General>
</RasterProperties>
</DataProperties>
<SyncDate>20260330</SyncDate>
<SyncTime>15482600</SyncTime>
<ModDate>20260415</ModDate>
<ModTime>10584200</ModTime>
<scaleRange>
<minScale>150000000</minScale>
<maxScale>5000</maxScale>
</scaleRange>
<ArcGISProfile>ItemDescription</ArcGISProfile>
</Esri>
<mdChar>
<CharSetCd value="004">
</CharSetCd>
</mdChar>
<mdHrLv>
<ScopeCd value="005">
</ScopeCd>
</mdHrLv>
<mdContact>
<rpIndName>Paige Brochu</rpIndName>
<rpOrgName>University of Vermont Spatial Analysis Laboratory</rpOrgName>
<rpPosName>Director</rpPosName>
<rpCntInfo>
<cntPhone>
<voiceNum>802-656-3324</voiceNum>
<faxNum>802-656-8683</faxNum>
</cntPhone>
<cntAddress addressType="both">
<delPoint>81 Carrigan Drive</delPoint>
<delPoint>Aiken Center Room 205</delPoint>
<city>Burlington</city>
<adminArea>VT</adminArea>
<postCode>05405</postCode>
<country>US</country>
<eMailAdd>Paige.Brochu@uvm.edu</eMailAdd>
</cntAddress>
</rpCntInfo>
<role>
<RoleCd value="007">
</RoleCd>
</role>
</mdContact>
<mdDateSt Sync="TRUE">20260415</mdDateSt>
<mdStanName>ArcGIS Metadata</mdStanName>
<mdStanVer>1.0</mdStanVer>
<dataIdInfo>
<idCitation>
<resTitle>Land_Cover_2024</resTitle>
<date>
<pubDate>2026-03-27</pubDate>
</date>
<citRespParty>
<rpOrgName>University of Vermont Spatial Analysis Laboratory</rpOrgName>
<role>
<RoleCd value="006">
</RoleCd>
</role>
</citRespParty>
<presForm>
<PresFormCd value="remote sensing image">
</PresFormCd>
</presForm>
<presForm>
<fgdcGeoform>remote sensing image</fgdcGeoform>
</presForm>
</idCitation>
<idAbs>&lt;div style='text-align:Left;'&gt;&lt;div&gt;&lt;p&gt;&lt;span&gt;High resolution land cover dataset for Virginia Beach, Virginia (vector format produced from 0.5 Foot raster land cover). Seven land cover classes were mapped: (1) tree canopy, (2) grass/shrub, (3) bare earth, (4) water, (5) buildings, (6) roads, and (7) other paved surfaces. The primary sources used to derive this land cover layer were 2024 LiDAR data and 2023 NAIP imagery. Ancillary data sources included GIS data provided by Virginia Beach, Virginia or created by the UVM Spatial Analysis Laboratory. Object-based image analysis techniques (OBIA) were employed to extract land cover information using the best available remotely sensed and vector GIS datasets. OBIA systems work by grouping pixels into meaningful objects based on their spectral and spatial properties, while taking into account boundaries imposed by existing vector datasets. Within the OBIA environment a rule-based expert system was designed to effectively mimic the process of manual image analysis by incorporating the elements of image interpretation (color/tone, texture, pattern, location, size, and shape) into the classification process. A series of morphological procedures were employed to insure that the end product is both accurate and cartographically pleasing. Following the automated OBIA mapping a detailed manual review of the dataset was carried out at a scale of 2500 and all observable errors were corrected.&lt;/span&gt;&lt;/p&gt;&lt;/div&gt;&lt;/div&gt;</idAbs>
<idPurp>This dataset was developed as part of the Virginia Beach Urban Tree Canopy Assessment 2018-2024. As such, it represents a 'top down' mapping perspective in which tree canopy over hanging other features is assigned to the tree canopy class. At the time of its creation this dataset represents the most detailed and accurate land cover dataset for the area.</idPurp>
<idCredit>University of Vermont Spatial Analysis Laboratory in collaboration with Virginia Beach.</idCredit>
<idStatus>
<ProgCd value="001">
</ProgCd>
</idStatus>
<idPoC>
<rpIndName>Paige Brochu</rpIndName>
<rpOrgName>University of Vermont Spatial Analysis Laboratory</rpOrgName>
<rpPosName>Director</rpPosName>
<rpCntInfo>
<cntPhone>
<voiceNum>802-656-3324</voiceNum>
<faxNum>802-656-8683</faxNum>
</cntPhone>
<cntAddress addressType="both">
<delPoint>Aiken Room 205</delPoint>
<delPoint>81 Carrigan Drive</delPoint>
<city>Burlington</city>
<adminArea>VT</adminArea>
<postCode>05405</postCode>
<country>US</country>
<eMailAdd>Paige.Brochu@uvm.edu</eMailAdd>
</cntAddress>
</rpCntInfo>
<role>
<RoleCd value="007">
</RoleCd>
</role>
</idPoC>
<resMaint>
<maintFreq>
<MaintFreqCd value="011">
</MaintFreqCd>
</maintFreq>
</resMaint>
<placeKeys>
<keyword>Virginia Beach</keyword>
<keyword>Virginia Beach</keyword>
<keyword>Virginia</keyword>
</placeKeys>
<tempKeys>
<keyword>2023</keyword>
</tempKeys>
<themeKeys>
<keyword>tree canopy</keyword>
<keyword>Urban</keyword>
<keyword>UTC</keyword>
<keyword>Land cover</keyword>
</themeKeys>
<themeKeys>
<thesaName>
<resTitle>ISO 19115 Topic Categories</resTitle>
</thesaName>
<keyword>imageryBaseMapsEarthCover</keyword>
</themeKeys>
<searchKeys>
<keyword>tree canopy</keyword>
<keyword>Urban</keyword>
<keyword>UTC</keyword>
<keyword>Land cover</keyword>
<keyword>imageryBaseMapsEarthCover</keyword>
<keyword>Virginia Beach</keyword>
<keyword>Virginia Beach</keyword>
<keyword>Virginia</keyword>
<keyword>2024</keyword>
</searchKeys>
<spatRpType>
<SpatRepTypCd value="002">
</SpatRepTypCd>
</spatRpType>
<dataExt>
<exDesc>Virginia Beach, Virginia; 2023</exDesc>
<tempEle>
<TempExtent>
<exTemp>
<TM_Period>
<tmBegin>2024-10-09</tmBegin>
</TM_Period>
</exTemp>
</TempExtent>
</tempEle>
</dataExt>
<suppInfo>This assessment was completed by the University of Vermont's Spatial Analysis Laboratory with funding from the Virginia Beach. The methods used were developed by the University of Vermont Spatial Analysis Laboratory in partnership with the USDA Forest Service. Tree canopy assessments have been conducted for numerous communities throughout the U.S. where the results have been instrumental in helping to establishing tree canopy goals.</suppInfo>
<envirDesc Sync="FALSE">Esri ArcGIS 13.4.0.55405</envirDesc>
<dataLang>
<languageCode Sync="TRUE" value="eng">
</languageCode>
<countryCode Sync="TRUE" value="USA">
</countryCode>
</dataLang>
<dataExt>
<geoEle>
<GeoBndBox esriExtentType="search">
<exTypeCode Sync="TRUE">1</exTypeCode>
<westBL Sync="TRUE">-76.236400</westBL>
<eastBL Sync="TRUE">-75.854415</eastBL>
<northBL Sync="TRUE">36.936467</northBL>
<southBL Sync="TRUE">36.545087</southBL>
</GeoBndBox>
</geoEle>
</dataExt>
<tpCat>
<TopicCatCd value="010">
</TopicCatCd>
</tpCat>
</dataIdInfo>
<dqInfo>
<dqScope>
<scpLvl>
<ScopeCd value="005">
</ScopeCd>
</scpLvl>
</dqScope>
<report type="DQQuanAttAcc">
<measDesc>No accuracy assessment was conducted, but the dataset was subject to a thorough manual quality control (QC). Accuracy assessments from previous UTC land cover datasets indicate that the use OBIA techniques in combination with a detailed QC yield an overall accuracy of 95% or better.</measDesc>
</report>
<report type="DQConcConsis">
<measDesc>Valid raster dataset.</measDesc>
</report>
<report type="DQCompOm">
<measDesc>Complete coverage for the study area using the most recent boundary data.</measDesc>
</report>
<dataLineage>
<dataSource>
<srcDesc>Vector</srcDesc>
<srcMedName>
<MedNameCd value="none">
</MedNameCd>
</srcMedName>
<srcCitatn>
<resTitle>Planimetric data</resTitle>
<resAltTitle>Planimetric data</resAltTitle>
</srcCitatn>
</dataSource>
<dataSource>
<srcDesc>4-band, leaf-on aerial imagery</srcDesc>
<srcMedName>
<MedNameCd value="none">
</MedNameCd>
</srcMedName>
<srcScale>
<rfDenom>12000</rfDenom>
</srcScale>
<srcCitatn>
<resTitle>National Agricultural Imagery Program 4-band data</resTitle>
<resAltTitle>NAIP</resAltTitle>
</srcCitatn>
</dataSource>
<dataSource>
<srcDesc>LiDAR point clouds</srcDesc>
<srcMedName>
<MedNameCd value="none">
</MedNameCd>
</srcMedName>
<srcCitatn>
<resTitle>LiDAR</resTitle>
<resAltTitle>LiDAR</resAltTitle>
</srcCitatn>
</dataSource>
<prcStep>
<stepDesc>Object based image analysis (OBIA) using a rule-based expert system</stepDesc>
<stepDateTm>2026-01-30</stepDateTm>
</prcStep>
<prcStep>
<stepDesc>Manual corrections to land cover classification</stepDesc>
<stepDateTm>2026-02-17</stepDateTm>
</prcStep>
</dataLineage>
</dqInfo>
<eainfo>
<detailed>
<enttyp>
<enttypl>LandCover7Class_2024_VirginaBeach_VA.tif</enttypl>
<enttypd>UTC</enttypd>
<enttypds>UVM Spatial Analysis Laboratory</enttypds>
</enttyp>
<attr>
<attrlabl>OID</attrlabl>
<attrdef>Internal feature number.</attrdef>
<attrdefs>ESRI</attrdefs>
<attrdomv>
<udom>Sequential unique whole numbers that are automatically generated.</udom>
</attrdomv>
</attr>
<attr>
<attrlabl>Count</attrlabl>
<attrdef># pixels per land cover class</attrdef>
<attrdefs>Internal</attrdefs>
<attrdomv>
<udom>Number of pixels per land cover class</udom>
</attrdomv>
</attr>
<attr>
<attrlabl>Value</attrlabl>
<attrdef>Land cover code</attrdef>
<attrdefs>UTC</attrdefs>
<attrdomv>
<edom>
<edomv>1</edomv>
<edomvd>Tree Canopy</edomvd>
<edomvds>Spatial Analysis Lab, University of Vermont</edomvds>
</edom>
<edom>
<edomv>2</edomv>
<edomvd>Grass/Shrub</edomvd>
<edomvds>Spatial Analysis Lab, University of Vermont</edomvds>
</edom>
<edom>
<edomv>3</edomv>
<edomvd>Bare Soil</edomvd>
<edomvds>Spatial Analysis Lab, University of Vermont</edomvds>
</edom>
<edom>
<edomv>4</edomv>
<edomvd>Water</edomvd>
<edomvds>Spatial Analysis Lab, University of Vermont</edomvds>
</edom>
<edom>
<edomv>5</edomv>
<edomvd>Building</edomvd>
<edomvds>Spatial Analysis Lab, University of Vermont</edomvds>
</edom>
<edom>
<edomv>6</edomv>
<edomvd>Road/Railroad</edomvd>
<edomvds>Spatial Analysis Lab, University of Vermont</edomvds>
</edom>
<edom>
<edomv>7</edomv>
<edomvd>Other Paved Surfaces</edomvd>
<edomvds>Spatial Analysis Lab, University of Vermont</edomvds>
</edom>
</attrdomv>
</attr>
</detailed>
<overview>
<eaover>Seven land cover classes were mapped: (1) tree canopy, (2) grass/shrub, (3) bare earth, (4) water, (5) buildings, (6) roads/railroads, and (7) other paved surfaces.</eaover>
</overview>
</eainfo>
<mdLang>
<languageCode Sync="TRUE" value="eng">
</languageCode>
<countryCode Sync="TRUE" value="USA">
</countryCode>
</mdLang>
<distInfo>
<distFormat>
<formatName Sync="TRUE">Raster Dataset</formatName>
</distFormat>
</distInfo>
<mdHrLvName Sync="TRUE">dataset</mdHrLvName>
<refSysInfo>
<RefSystem>
<refSysID>
<identCode Sync="TRUE" code="6595">
</identCode>
<idCodeSpace Sync="TRUE">EPSG</idCodeSpace>
<idVersion Sync="TRUE">8.2.10(10.3.1)</idVersion>
</refSysID>
</RefSystem>
</refSysInfo>
<spatRepInfo>
<Georect>
<cellGeo>
<CellGeoCd Sync="TRUE" value="002">
</CellGeoCd>
</cellGeo>
<numDims Sync="TRUE">2</numDims>
<tranParaAv Sync="TRUE">1</tranParaAv>
<chkPtAv Sync="TRUE">0</chkPtAv>
<cornerPts>
<pos Sync="TRUE">12147779.080557 3368711.354822</pos>
</cornerPts>
<cornerPts>
<pos Sync="TRUE">12147779.080557 3508438.854822</pos>
</cornerPts>
<cornerPts>
<pos Sync="TRUE">12256113.080557 3508438.854822</pos>
</cornerPts>
<cornerPts>
<pos Sync="TRUE">12256113.080557 3368711.354822</pos>
</cornerPts>
<centerPt>
<pos Sync="TRUE">12201946.080557 3438575.104822</pos>
</centerPt>
<axisDimension type="002">
<dimSize Sync="TRUE">216668</dimSize>
<dimResol>
<value Sync="TRUE" uom="ftUS">0.500000</value>
</dimResol>
</axisDimension>
<axisDimension type="001">
<dimSize Sync="TRUE">279455</dimSize>
<dimResol>
<value Sync="TRUE" uom="ftUS">0.500000</value>
</dimResol>
</axisDimension>
<ptInPixel>
<PixOrientCd Sync="TRUE" value="001">
</PixOrientCd>
</ptInPixel>
</Georect>
</spatRepInfo>
<contInfo>
<ImgDesc>
<contentTyp>
<ContentTypCd Sync="TRUE" value="001">
</ContentTypCd>
</contentTyp>
<covDim>
<Band>
<dimDescrp Sync="TRUE">Band_1</dimDescrp>
<maxVal Sync="TRUE">7.000000</maxVal>
<minVal Sync="TRUE">0.000000</minVal>
<bitsPerVal Sync="TRUE">8</bitsPerVal>
<valUnit>
<UOM type="length">
</UOM>
</valUnit>
</Band>
</covDim>
</ImgDesc>
</contInfo>
</metadata>
