{ "currentVersion": 11.5, "serviceDescription": "

High resolution land cover dataset for Virginia Beach, Virginia. Seven land cover classes were mapped: (1) tree canopy, (2) grass/shrub, (3) bare earth, (4) water, (5) buildings, (6) roads, and (7) other paved surfaces. The primary sources used to derive this land cover layer were 2018 LiDAR data and 2018 NAIP imagery. Ancillary data sources included GIS data provided by Virginia Beach, Virginia Beach, Virginia or created by the UVM Spatial Analysis Laboratory. Object-based image analysis techniques (OBIA) were employed to extract land cover information using the best available remotely sensed and vector GIS datasets. OBIA systems work by grouping pixels into meaningful objects based on their spectral and spatial properties, while taking into account boundaries imposed by existing vector datasets. Within the OBIA environment a rule-based expert system was designed to effectively mimic the process of manual image analysis by incorporating the elements of image interpretation (color/tone, texture, pattern, location, size, and shape) into the classification process. A series of morphological procedures were employed to insure that the end product is both accurate and cartographically pleasing. Following the automated OBIA mapping a detailed manual review of the dataset was carried out at a scale of 1:3500 and all observable errors were corrected.<\/span><\/p><\/div><\/div>", "name": "Land_Cover/Land_Cover_2018", "description": "

High resolution land cover dataset for Virginia Beach, Virginia. Seven land cover classes were mapped: (1) tree canopy, (2) grass/shrub, (3) bare earth, (4) water, (5) buildings, (6) roads, and (7) other paved surfaces. The primary sources used to derive this land cover layer were 2018 LiDAR data and 2018 NAIP imagery. Ancillary data sources included GIS data provided by Virginia Beach, Virginia Beach, Virginia or created by the UVM Spatial Analysis Laboratory. Object-based image analysis techniques (OBIA) were employed to extract land cover information using the best available remotely sensed and vector GIS datasets. OBIA systems work by grouping pixels into meaningful objects based on their spectral and spatial properties, while taking into account boundaries imposed by existing vector datasets. Within the OBIA environment a rule-based expert system was designed to effectively mimic the process of manual image analysis by incorporating the elements of image interpretation (color/tone, texture, pattern, location, size, and shape) into the classification process. A series of morphological procedures were employed to insure that the end product is both accurate and cartographically pleasing. Following the automated OBIA mapping a detailed manual review of the dataset was carried out at a scale of 1:3500 and all observable errors were corrected.<\/span><\/p><\/div><\/div>", "extent": { "xmin": 12144561, "ymin": 3368059, "xmax": 12259394, "ymax": 3527771, "spatialReference": { "wkt2": "PROJCRS[\"NSRS_2011_Virginia_State_Planes_South_Zone_US_Foot\",BASEGEOGCRS[\"GCS_NAD83_2011\",DATUM[\"D_unknown\",ELLIPSOID[\"GRS_1980\",6378137.0,298.257222101,LENGTHUNIT[\"Meter\",1.0]]],PRIMEM[\"Greenwich\",0.0,ANGLEUNIT[\"Degree\",0.0174532925199433]],CS[ellipsoidal,2],ANGLEUNIT[\"Degree\",0.0174532925199433]],CONVERSION[\"Lambert_Conformal_Conic\",METHOD[\"Lambert_Conformal_Conic\"],PARAMETER[\"False_Easting\",11482916.6666667,LENGTHUNIT[\"Foot_US\",0.3048006096012192]],PARAMETER[\"False_Northing\",3280833.33333333,LENGTHUNIT[\"Foot_US\",0.3048006096012192]],PARAMETER[\"Central_Meridian\",-78.5,ANGLEUNIT[\"Degree\",0.0174532925199433]],PARAMETER[\"Standard_Parallel_1\",36.7666666666667,ANGLEUNIT[\"Degree\",0.0174532925199433]],PARAMETER[\"Standard_Parallel_2\",37.9666666666667,ANGLEUNIT[\"Degree\",0.0174532925199433]],PARAMETER[\"Latitude_Of_Origin\",36.3333333333333,ANGLEUNIT[\"Degree\",0.0174532925199433]]],CS[Cartesian,2],AXIS[\"Easting (X)\",east,ORDER[1]],AXIS[\"Northing (Y)\",north,ORDER[2]],LENGTHUNIT[\"Foot_US\",0.3048006096012192]]", "wkt": "PROJCS[\"NSRS_2011_Virginia_State_Planes_South_Zone_US_Foot\",GEOGCS[\"GCS_NAD83_2011\",DATUM[\"D_unknown\",SPHEROID[\"GRS_1980\",6378137.0,298.257222101]],PRIMEM[\"Greenwich\",0.0],UNIT[\"Degree\",0.0174532925199433]],PROJECTION[\"Lambert_Conformal_Conic\"],PARAMETER[\"False_Easting\",11482916.6666667],PARAMETER[\"False_Northing\",3280833.33333333],PARAMETER[\"Central_Meridian\",-78.5],PARAMETER[\"Standard_Parallel_1\",36.7666666666667],PARAMETER[\"Standard_Parallel_2\",37.9666666666667],PARAMETER[\"Latitude_Of_Origin\",36.3333333333333],UNIT[\"Foot_US\",0.3048006096012192]]" } }, "initialExtent": { "xmin": 12144561, "ymin": 3368059, "xmax": 12259394, "ymax": 3527771, "spatialReference": { "wkt2": "PROJCRS[\"NSRS_2011_Virginia_State_Planes_South_Zone_US_Foot\",BASEGEOGCRS[\"GCS_NAD83_2011\",DATUM[\"D_unknown\",ELLIPSOID[\"GRS_1980\",6378137.0,298.257222101,LENGTHUNIT[\"Meter\",1.0]]],PRIMEM[\"Greenwich\",0.0,ANGLEUNIT[\"Degree\",0.0174532925199433]],CS[ellipsoidal,2],ANGLEUNIT[\"Degree\",0.0174532925199433]],CONVERSION[\"Lambert_Conformal_Conic\",METHOD[\"Lambert_Conformal_Conic\"],PARAMETER[\"False_Easting\",11482916.6666667,LENGTHUNIT[\"Foot_US\",0.3048006096012192]],PARAMETER[\"False_Northing\",3280833.33333333,LENGTHUNIT[\"Foot_US\",0.3048006096012192]],PARAMETER[\"Central_Meridian\",-78.5,ANGLEUNIT[\"Degree\",0.0174532925199433]],PARAMETER[\"Standard_Parallel_1\",36.7666666666667,ANGLEUNIT[\"Degree\",0.0174532925199433]],PARAMETER[\"Standard_Parallel_2\",37.9666666666667,ANGLEUNIT[\"Degree\",0.0174532925199433]],PARAMETER[\"Latitude_Of_Origin\",36.3333333333333,ANGLEUNIT[\"Degree\",0.0174532925199433]]],CS[Cartesian,2],AXIS[\"Easting (X)\",east,ORDER[1]],AXIS[\"Northing (Y)\",north,ORDER[2]],LENGTHUNIT[\"Foot_US\",0.3048006096012192]]", "wkt": "PROJCS[\"NSRS_2011_Virginia_State_Planes_South_Zone_US_Foot\",GEOGCS[\"GCS_NAD83_2011\",DATUM[\"D_unknown\",SPHEROID[\"GRS_1980\",6378137.0,298.257222101]],PRIMEM[\"Greenwich\",0.0],UNIT[\"Degree\",0.0174532925199433]],PROJECTION[\"Lambert_Conformal_Conic\"],PARAMETER[\"False_Easting\",11482916.6666667],PARAMETER[\"False_Northing\",3280833.33333333],PARAMETER[\"Central_Meridian\",-78.5],PARAMETER[\"Standard_Parallel_1\",36.7666666666667],PARAMETER[\"Standard_Parallel_2\",37.9666666666667],PARAMETER[\"Latitude_Of_Origin\",36.3333333333333],UNIT[\"Foot_US\",0.3048006096012192]]" } }, "fullExtent": { "xmin": 12144561, "ymin": 3368059, "xmax": 12259394, "ymax": 3527771, "spatialReference": { "wkt2": "PROJCRS[\"NSRS_2011_Virginia_State_Planes_South_Zone_US_Foot\",BASEGEOGCRS[\"GCS_NAD83_2011\",DATUM[\"D_unknown\",ELLIPSOID[\"GRS_1980\",6378137.0,298.257222101,LENGTHUNIT[\"Meter\",1.0]]],PRIMEM[\"Greenwich\",0.0,ANGLEUNIT[\"Degree\",0.0174532925199433]],CS[ellipsoidal,2],ANGLEUNIT[\"Degree\",0.0174532925199433]],CONVERSION[\"Lambert_Conformal_Conic\",METHOD[\"Lambert_Conformal_Conic\"],PARAMETER[\"False_Easting\",11482916.6666667,LENGTHUNIT[\"Foot_US\",0.3048006096012192]],PARAMETER[\"False_Northing\",3280833.33333333,LENGTHUNIT[\"Foot_US\",0.3048006096012192]],PARAMETER[\"Central_Meridian\",-78.5,ANGLEUNIT[\"Degree\",0.0174532925199433]],PARAMETER[\"Standard_Parallel_1\",36.7666666666667,ANGLEUNIT[\"Degree\",0.0174532925199433]],PARAMETER[\"Standard_Parallel_2\",37.9666666666667,ANGLEUNIT[\"Degree\",0.0174532925199433]],PARAMETER[\"Latitude_Of_Origin\",36.3333333333333,ANGLEUNIT[\"Degree\",0.0174532925199433]]],CS[Cartesian,2],AXIS[\"Easting (X)\",east,ORDER[1]],AXIS[\"Northing (Y)\",north,ORDER[2]],LENGTHUNIT[\"Foot_US\",0.3048006096012192]]", "wkt": "PROJCS[\"NSRS_2011_Virginia_State_Planes_South_Zone_US_Foot\",GEOGCS[\"GCS_NAD83_2011\",DATUM[\"D_unknown\",SPHEROID[\"GRS_1980\",6378137.0,298.257222101]],PRIMEM[\"Greenwich\",0.0],UNIT[\"Degree\",0.0174532925199433]],PROJECTION[\"Lambert_Conformal_Conic\"],PARAMETER[\"False_Easting\",11482916.6666667],PARAMETER[\"False_Northing\",3280833.33333333],PARAMETER[\"Central_Meridian\",-78.5],PARAMETER[\"Standard_Parallel_1\",36.7666666666667],PARAMETER[\"Standard_Parallel_2\",37.9666666666667],PARAMETER[\"Latitude_Of_Origin\",36.3333333333333],UNIT[\"Foot_US\",0.3048006096012192]]" } }, "sortableFields": "", "bandCount": 1, "pixelType": "U4", "minValues": [ 1 ], "maxValues": [ 7 ], "meanValues": [ 2.6547818894936 ], "stdvValues": [ 1.7445818350972 ], "serviceProperties": "Center<\/MosaicMethod>First<\/MosaicOperator>true<\/SortAscending><\/LockImageID><\/TileOrderField>0<\/TileOrderBase>0.000000<\/AvgImageSpacingX>0.000000<\/AvgImageSpacingY>0.0<\/ViewPointX>0.0<\/ViewPointY>0.0<\/ViewPointDefShiftX>0.0<\/ViewPointDefShiftY>None<\/CompressionMethod>75<\/CompressionQuality>0.010000<\/CompressionTolerance>Bilinear<\/SamplingMethod><\/ImageServiceProperties><\/ImageServer>", "allowedFields": "", "hasMultidimensions": false, "pixelSizeX": 1, "pixelSizeY": 1, "meanPixelSize": 0.30480060960121924, "datasetFormat": "TIFF", "uncompressedSize": 9170104048, "blockWidth": 128, "blockHeight": 128, "compressionType": "LZW", "bandNames": [ "Band_1" ], "allowCopy": true, "allowAnalysis": true, "itemAccess": false, "inspectionCapabilities": "", "noDataValue": 0, "noDataValues": [ 0 ], "minPixelSize": 0, "maxPixelSize": 0, "copyrightText": "University of Vermont Spatial Analysis Laboratory in collaboration with Tree Canopy Change Assessment Virginia Beach 2012-2018.", "serviceDataType": "esriImageServiceDataTypeGeneric", "serviceSourceType": "esriImageServiceSourceTypeDataset", "objectIdField": "", "fields": [], "capabilities": "Mensuration,Image,Metadata", "defaultMosaicMethod": "Center", "allowedMosaicMethods": "", "sortField": "", "sortValue": null, "sortAscending": true, "mosaicOperator": "First", "defaultCompressionQuality": 75, "defaultResamplingMethod": "Bilinear", "maxImageHeight": 4100, "maxImageWidth": 15000, "allowRasterFunction": true, "rasterFunctionInfos": [ { "name": "Colormap_LC_2018", "description": "A raster function template.", "help": "" }, { "name": "None", "description": "Make a Raster or Raster Dataset into a Function Raster Dataset.", "help": "" } ], "rasterTypeInfos": [ { "name": "Raster Dataset", "description": "Supports all ArcGIS Raster Datasets", "help": "" } ], "mensurationCapabilities": "Basic", "hasHistograms": true, "hasColormap": false, "hasRasterAttributeTable": true, "minScale": 0, "maxScale": 0, "exportTilesAllowed": false, "supportsStatistics": false, "supportsAdvancedQueries": false, "editFieldsInfo": null, "ownershipBasedAccessControlForRasters": null, "allowComputeTiePoints": false, "useStandardizedQueries": true, "advancedQueryCapabilities": { "useStandardizedQueries": true, "supportsStatistics": false, "supportsOrderBy": false, "supportsDistinct": false, "supportsPagination": false }, "spatialReference": { "wkt2": "PROJCRS[\"NSRS_2011_Virginia_State_Planes_South_Zone_US_Foot\",BASEGEOGCRS[\"GCS_NAD83_2011\",DATUM[\"D_unknown\",ELLIPSOID[\"GRS_1980\",6378137.0,298.257222101,LENGTHUNIT[\"Meter\",1.0]]],PRIMEM[\"Greenwich\",0.0,ANGLEUNIT[\"Degree\",0.0174532925199433]],CS[ellipsoidal,2],ANGLEUNIT[\"Degree\",0.0174532925199433]],CONVERSION[\"Lambert_Conformal_Conic\",METHOD[\"Lambert_Conformal_Conic\"],PARAMETER[\"False_Easting\",11482916.6666667,LENGTHUNIT[\"Foot_US\",0.3048006096012192]],PARAMETER[\"False_Northing\",3280833.33333333,LENGTHUNIT[\"Foot_US\",0.3048006096012192]],PARAMETER[\"Central_Meridian\",-78.5,ANGLEUNIT[\"Degree\",0.0174532925199433]],PARAMETER[\"Standard_Parallel_1\",36.7666666666667,ANGLEUNIT[\"Degree\",0.0174532925199433]],PARAMETER[\"Standard_Parallel_2\",37.9666666666667,ANGLEUNIT[\"Degree\",0.0174532925199433]],PARAMETER[\"Latitude_Of_Origin\",36.3333333333333,ANGLEUNIT[\"Degree\",0.0174532925199433]]],CS[Cartesian,2],AXIS[\"Easting (X)\",east,ORDER[1]],AXIS[\"Northing (Y)\",north,ORDER[2]],LENGTHUNIT[\"Foot_US\",0.3048006096012192]]", "wkt": "PROJCS[\"NSRS_2011_Virginia_State_Planes_South_Zone_US_Foot\",GEOGCS[\"GCS_NAD83_2011\",DATUM[\"D_unknown\",SPHEROID[\"GRS_1980\",6378137.0,298.257222101]],PRIMEM[\"Greenwich\",0.0],UNIT[\"Degree\",0.0174532925199433]],PROJECTION[\"Lambert_Conformal_Conic\"],PARAMETER[\"False_Easting\",11482916.6666667],PARAMETER[\"False_Northing\",3280833.33333333],PARAMETER[\"Central_Meridian\",-78.5],PARAMETER[\"Standard_Parallel_1\",36.7666666666667],PARAMETER[\"Standard_Parallel_2\",37.9666666666667],PARAMETER[\"Latitude_Of_Origin\",36.3333333333333],UNIT[\"Foot_US\",0.3048006096012192]]" }, "resampling": false }