{ "currentVersion": 11.5, "serviceDescription": "

This dataset was developed as part of the Urban Tree Canopy (UTC) Assessment for Virginia Beach, VA. As such, it represents a \"top down\" mapping perspective. <\/span><\/p>
High resolution land cover dataset for Virginia Beach, VA. Seven land cover classes were mapped: (1) tree canopy, (2) grass/shrub, (3) bare earth, (4) water, (5) buildings, (6) roads, and (7) other paved surfaces. The minimum mapping unit for the delineation of features was set at 3x3 square feet. <\/span><\/p>
The primary sources used to derive this land cover layer were (1) NAIP 2008 imagery derived from the compressed county mosaic, (2) Normalized digital surface model (nDSM) for Virginia Beach, VA, generated from 2004 light detection and ranging (LiDAR) data representing a 2ft surface. Ancillary data sources used were GIS vector planimetrics layers containing buildings, roads, utility lines, and surface water, provided by the City of Virginia Beach to aid in classification. This land cover dataset is considered current as of November, 2009.<\/span><\/p>
Object-based image analysis techniques (OBIA) were employed to extract land cover information using the best available remotely sensed and vector GIS datasets. OBIA systems work by grouping pixels into meaningful objects based on their spectral and spatial properties, while taking into account boundaries imposed by existing vector datasets. Within the OBIA environment a rule-based expert system was designed to effectively mimic the process of manual image analysis by incorporating the elements of image interpretation (color/tone, texture, pattern, location, size, and shape) into the classification process. A series of morphological procedures were employed to insure that the end product is both accurate and cartographically pleasing.<\/span><\/p>
No accuracy assessment was conducted, but the dataset was subject to a thorough manual quality control. 18194 corrections were made to the classification.<\/span><\/p><\/div><\/div><\/div>", "name": "Land_Cover/Land_Cover_2009", "description": "

This dataset was developed as part of the Urban Tree Canopy (UTC) Assessment for Virginia Beach, VA. As such, it represents a \"top down\" mapping perspective. <\/span><\/p>
High resolution land cover dataset for Virginia Beach, VA. Seven land cover classes were mapped: (1) tree canopy, (2) grass/shrub, (3) bare earth, (4) water, (5) buildings, (6) roads, and (7) other paved surfaces. The minimum mapping unit for the delineation of features was set at 3x3 square feet. <\/span><\/p>
The primary sources used to derive this land cover layer were (1) NAIP 2008 imagery derived from the compressed county mosaic, (2) Normalized digital surface model (nDSM) for Virginia Beach, VA, generated from 2004 light detection and ranging (LiDAR) data representing a 2ft surface. Ancillary data sources used were GIS vector planimetrics layers containing buildings, roads, utility lines, and surface water, provided by the City of Virginia Beach to aid in classification. This land cover dataset is considered current as of November, 2009.<\/span><\/p>
Object-based image analysis techniques (OBIA) were employed to extract land cover information using the best available remotely sensed and vector GIS datasets. OBIA systems work by grouping pixels into meaningful objects based on their spectral and spatial properties, while taking into account boundaries imposed by existing vector datasets. Within the OBIA environment a rule-based expert system was designed to effectively mimic the process of manual image analysis by incorporating the elements of image interpretation (color/tone, texture, pattern, location, size, and shape) into the classification process. A series of morphological procedures were employed to insure that the end product is both accurate and cartographically pleasing.<\/span><\/p>
No accuracy assessment was conducted, but the dataset was subject to a thorough manual quality control. 18194 corrections were made to the classification.<\/span><\/p><\/div><\/div><\/div>", "extent": { "xmin": 12147777, "ymin": 3368709.7900261222, "xmax": 12256113, "ymax": 3508443.7900261222, "spatialReference": { "wkid": 2925, "latestWkid": 2925 } }, "initialExtent": { "xmin": 12147777, "ymin": 3368709.7900261222, "xmax": 12256113, "ymax": 3508443.7900261222, "spatialReference": { "wkid": 2925, "latestWkid": 2925 } }, "fullExtent": { "xmin": 12147777, "ymin": 3368709.7900261222, "xmax": 12256113, "ymax": 3508443.7900261222, "spatialReference": { "wkid": 2925, "latestWkid": 2925 } }, "sortableFields": "", "bandCount": 1, "pixelType": "U8", "minValues": [ 1 ], "maxValues": [ 7 ], "meanValues": [ 2.797461121973878 ], "stdvValues": [ 1.8601247379323593 ], "serviceProperties": "Center<\/MosaicMethod>First<\/MosaicOperator>true<\/SortAscending><\/LockImageID><\/TileOrderField>0<\/TileOrderBase>0.000000<\/AvgImageSpacingX>0.000000<\/AvgImageSpacingY>0.0<\/ViewPointX>0.0<\/ViewPointY>0.0<\/ViewPointDefShiftX>0.0<\/ViewPointDefShiftY>None<\/CompressionMethod>75<\/CompressionQuality>0.010000<\/CompressionTolerance>Bilinear<\/SamplingMethod><\/ImageServiceProperties><\/ImageServer>", "allowedFields": "", "hasMultidimensions": false, "pixelSizeX": 2, "pixelSizeY": 2, "meanPixelSize": 0.6096012192024385, "datasetFormat": "FGDBR", "uncompressedSize": 3784555656, "blockWidth": 128, "blockHeight": 128, "compressionType": "NONE", "bandNames": [ "Band_1" ], "allowCopy": true, "allowAnalysis": true, "itemAccess": false, "inspectionCapabilities": "", "minPixelSize": 0, "maxPixelSize": 0, "copyrightText": "", "serviceDataType": "esriImageServiceDataTypeGeneric", "serviceSourceType": "esriImageServiceSourceTypeDataset", "objectIdField": "", "fields": [], "capabilities": "Mensuration,Image,Metadata", "defaultMosaicMethod": "Center", "allowedMosaicMethods": "", "sortField": "", "sortValue": null, "sortAscending": true, "mosaicOperator": "First", "defaultCompressionQuality": 75, "defaultResamplingMethod": "Bilinear", "maxImageHeight": 4100, "maxImageWidth": 15000, "allowRasterFunction": true, "rasterFunctionInfos": [ { "name": "Land Cover", "description": "Land Cover color ramp for UTC rasters.", "help": "" }, { "name": "Land Cover", "description": "Land Cover color ramp for UTC rasters.", "help": "" }, { "name": "None", "description": "Make a Raster or Raster Dataset into a Function Raster Dataset.", "help": "" } ], "rasterTypeInfos": [ { "name": "Raster Dataset", "description": "Supports all ArcGIS Raster Datasets", "help": "" } ], "mensurationCapabilities": "Basic", "hasHistograms": true, "hasColormap": true, "hasRasterAttributeTable": true, "minScale": 0, "maxScale": 0, "exportTilesAllowed": false, "supportsStatistics": false, "supportsAdvancedQueries": false, "editFieldsInfo": null, "ownershipBasedAccessControlForRasters": null, "allowComputeTiePoints": false, "useStandardizedQueries": true, "advancedQueryCapabilities": { "useStandardizedQueries": true, "supportsStatistics": false, "supportsOrderBy": false, "supportsDistinct": false, "supportsPagination": false }, "spatialReference": { "wkid": 2925, "latestWkid": 2925 }, "resampling": false }