{
 "currentVersion": 11.5,
 "serviceDescription": "Aerial imagery collected in 1937.",
 "name": "Imagery/Aerial1937",
 "description": "Aerial imagery collected in 1937.",
 "extent": {
  "xmin": 1.216542548826767E7,
  "ymin": 3415736.733888222,
  "xmax": 1.223393248826767E7,
  "ymax": 3505968.733888222,
  "spatialReference": {
   "wkt2": "PROJCRS[\"NAD_1983_HARN_StatePlane_Virginia_South_FIPS_4502\",BASEGEOGCRS[\"GCS_North_American_1983_HARN\",DATUM[\"D_North_American_1983_HARN\",ELLIPSOID[\"GRS_1980\",6378137.0,298.257222101,LENGTHUNIT[\"Meter\",1.0]]],PRIMEM[\"Greenwich\",0.0,ANGLEUNIT[\"Degree\",0.0174532925199433]],CS[ellipsoidal,2],AXIS[\"Latitude (lat)\",north,ORDER[1]],AXIS[\"Longitude (lon)\",east,ORDER[2]],ANGLEUNIT[\"Degree\",0.0174532925199433]],CONVERSION[\"Lambert_Conformal_Conic\",METHOD[\"Lambert_Conformal_Conic\"],PARAMETER[\"false_easting\",11482916.66666667,LENGTHUNIT[\"Foot_US\",0.3048006096012192]],PARAMETER[\"false_northing\",3280833.333333333,LENGTHUNIT[\"Foot_US\",0.3048006096012192]],PARAMETER[\"central_meridian\",-78.5,ANGLEUNIT[\"Degree\",0.0174532925199433]],PARAMETER[\"standard_parallel_1\",36.76666666666667,ANGLEUNIT[\"Degree\",0.0174532925199433]],PARAMETER[\"standard_parallel_2\",37.96666666666667,ANGLEUNIT[\"Degree\",0.0174532925199433]],PARAMETER[\"latitude_of_origin\",36.33333333333334,ANGLEUNIT[\"Degree\",0.0174532925199433]]],CS[Cartesian,2],AXIS[\"Easting (X)\",east,ORDER[1]],AXIS[\"Northing (Y)\",north,ORDER[2]],LENGTHUNIT[\"Foot_US\",0.3048006096012192]]",
   "wkt": "PROJCS[\"NAD_1983_HARN_StatePlane_Virginia_South_FIPS_4502\",GEOGCS[\"GCS_North_American_1983_HARN\",DATUM[\"D_North_American_1983_HARN\",SPHEROID[\"GRS_1980\",6378137.0,298.257222101]],PRIMEM[\"Greenwich\",0.0],UNIT[\"Degree\",0.0174532925199433]],PROJECTION[\"Lambert_Conformal_Conic\"],PARAMETER[\"false_easting\",11482916.66666667],PARAMETER[\"false_northing\",3280833.333333333],PARAMETER[\"central_meridian\",-78.5],PARAMETER[\"standard_parallel_1\",36.76666666666667],PARAMETER[\"standard_parallel_2\",37.96666666666667],PARAMETER[\"latitude_of_origin\",36.33333333333334],UNIT[\"Foot_US\",0.3048006096012192]]"
  }
 },
 "initialExtent": {
  "xmin": 1.216542548826767E7,
  "ymin": 3415736.733888222,
  "xmax": 1.223393248826767E7,
  "ymax": 3505968.733888222,
  "spatialReference": {
   "wkt2": "PROJCRS[\"NAD_1983_HARN_StatePlane_Virginia_South_FIPS_4502\",BASEGEOGCRS[\"GCS_North_American_1983_HARN\",DATUM[\"D_North_American_1983_HARN\",ELLIPSOID[\"GRS_1980\",6378137.0,298.257222101,LENGTHUNIT[\"Meter\",1.0]]],PRIMEM[\"Greenwich\",0.0,ANGLEUNIT[\"Degree\",0.0174532925199433]],CS[ellipsoidal,2],AXIS[\"Latitude (lat)\",north,ORDER[1]],AXIS[\"Longitude (lon)\",east,ORDER[2]],ANGLEUNIT[\"Degree\",0.0174532925199433]],CONVERSION[\"Lambert_Conformal_Conic\",METHOD[\"Lambert_Conformal_Conic\"],PARAMETER[\"false_easting\",11482916.66666667,LENGTHUNIT[\"Foot_US\",0.3048006096012192]],PARAMETER[\"false_northing\",3280833.333333333,LENGTHUNIT[\"Foot_US\",0.3048006096012192]],PARAMETER[\"central_meridian\",-78.5,ANGLEUNIT[\"Degree\",0.0174532925199433]],PARAMETER[\"standard_parallel_1\",36.76666666666667,ANGLEUNIT[\"Degree\",0.0174532925199433]],PARAMETER[\"standard_parallel_2\",37.96666666666667,ANGLEUNIT[\"Degree\",0.0174532925199433]],PARAMETER[\"latitude_of_origin\",36.33333333333334,ANGLEUNIT[\"Degree\",0.0174532925199433]]],CS[Cartesian,2],AXIS[\"Easting (X)\",east,ORDER[1]],AXIS[\"Northing (Y)\",north,ORDER[2]],LENGTHUNIT[\"Foot_US\",0.3048006096012192]]",
   "wkt": "PROJCS[\"NAD_1983_HARN_StatePlane_Virginia_South_FIPS_4502\",GEOGCS[\"GCS_North_American_1983_HARN\",DATUM[\"D_North_American_1983_HARN\",SPHEROID[\"GRS_1980\",6378137.0,298.257222101]],PRIMEM[\"Greenwich\",0.0],UNIT[\"Degree\",0.0174532925199433]],PROJECTION[\"Lambert_Conformal_Conic\"],PARAMETER[\"false_easting\",11482916.66666667],PARAMETER[\"false_northing\",3280833.333333333],PARAMETER[\"central_meridian\",-78.5],PARAMETER[\"standard_parallel_1\",36.76666666666667],PARAMETER[\"standard_parallel_2\",37.96666666666667],PARAMETER[\"latitude_of_origin\",36.33333333333334],UNIT[\"Foot_US\",0.3048006096012192]]"
  }
 },
 "fullExtent": {
  "xmin": 1.216542548826767E7,
  "ymin": 3415736.733888222,
  "xmax": 1.223393248826767E7,
  "ymax": 3505968.733888222,
  "spatialReference": {
   "wkt2": "PROJCRS[\"NAD_1983_HARN_StatePlane_Virginia_South_FIPS_4502\",BASEGEOGCRS[\"GCS_North_American_1983_HARN\",DATUM[\"D_North_American_1983_HARN\",ELLIPSOID[\"GRS_1980\",6378137.0,298.257222101,LENGTHUNIT[\"Meter\",1.0]]],PRIMEM[\"Greenwich\",0.0,ANGLEUNIT[\"Degree\",0.0174532925199433]],CS[ellipsoidal,2],AXIS[\"Latitude (lat)\",north,ORDER[1]],AXIS[\"Longitude (lon)\",east,ORDER[2]],ANGLEUNIT[\"Degree\",0.0174532925199433]],CONVERSION[\"Lambert_Conformal_Conic\",METHOD[\"Lambert_Conformal_Conic\"],PARAMETER[\"false_easting\",11482916.66666667,LENGTHUNIT[\"Foot_US\",0.3048006096012192]],PARAMETER[\"false_northing\",3280833.333333333,LENGTHUNIT[\"Foot_US\",0.3048006096012192]],PARAMETER[\"central_meridian\",-78.5,ANGLEUNIT[\"Degree\",0.0174532925199433]],PARAMETER[\"standard_parallel_1\",36.76666666666667,ANGLEUNIT[\"Degree\",0.0174532925199433]],PARAMETER[\"standard_parallel_2\",37.96666666666667,ANGLEUNIT[\"Degree\",0.0174532925199433]],PARAMETER[\"latitude_of_origin\",36.33333333333334,ANGLEUNIT[\"Degree\",0.0174532925199433]]],CS[Cartesian,2],AXIS[\"Easting (X)\",east,ORDER[1]],AXIS[\"Northing (Y)\",north,ORDER[2]],LENGTHUNIT[\"Foot_US\",0.3048006096012192]]",
   "wkt": "PROJCS[\"NAD_1983_HARN_StatePlane_Virginia_South_FIPS_4502\",GEOGCS[\"GCS_North_American_1983_HARN\",DATUM[\"D_North_American_1983_HARN\",SPHEROID[\"GRS_1980\",6378137.0,298.257222101]],PRIMEM[\"Greenwich\",0.0],UNIT[\"Degree\",0.0174532925199433]],PROJECTION[\"Lambert_Conformal_Conic\"],PARAMETER[\"false_easting\",11482916.66666667],PARAMETER[\"false_northing\",3280833.333333333],PARAMETER[\"central_meridian\",-78.5],PARAMETER[\"standard_parallel_1\",36.76666666666667],PARAMETER[\"standard_parallel_2\",37.96666666666667],PARAMETER[\"latitude_of_origin\",36.33333333333334],UNIT[\"Foot_US\",0.3048006096012192]]"
  }
 },
 "sortableFields": "MinPS,MaxPS,LowPS,HighPS,CenterX,CenterY,ZOrder,Shape_Length,Shape_Area",
 "bandCount": 1,
 "pixelType": "U8",
 "minValues": [
  0
 ],
 "maxValues": [
  255
 ],
 "meanValues": [
  145.56441069838158
 ],
 "stdvValues": [
  43.02416146924406
 ],
 "serviceProperties": "NorthWest<\/MosaicMethod>Last<\/MosaicOperator>false<\/SortAscending><\/LockImageID>CenterY<\/TileOrderField>0<\/TileOrderBase>600.000000<\/AvgImageSpacingX>300.000000<\/AvgImageSpacingY>0.0<\/ViewPointX>0.0<\/ViewPointY>0.0<\/ViewPointDefShiftX>0.0<\/ViewPointDefShiftY>None<\/CompressionMethod>75<\/CompressionQuality>0.010000<\/CompressionTolerance>Bilinear<\/SamplingMethod><\/ImageServiceProperties><\/ImageServer>",
 "allowedFields": "Name,MinPS,MaxPS,LowPS,HighPS,Tag,GroupName,ProductName,CenterX,CenterY,ZOrder,Shape_Length,Shape_Area",
 "hasMultidimensions": false,
 "pixelSizeX": 1,
 "pixelSizeY": 1,
 "meanPixelSize": 0.30480060960121924,
 "datasetFormat": "AMD",
 "uncompressedSize": 6181523624,
 "blockWidth": 2048,
 "blockHeight": 256,
 "compressionType": "None",
 "bandNames": [
  "Band_1"
 ],
 "allowCopy": true,
 "allowAnalysis": true,
 "itemAccess": false,
 "inspectionCapabilities": "",
 "minPixelSize": 0,
 "maxPixelSize": 0,
 "copyrightText": "",
 "serviceDataType": "esriImageServiceDataTypeGeneric",
 "serviceSourceType": "esriImageServiceSourceTypeMosaicDataset",
 "objectIdField": "OBJECTID",
 "fields": [
  {
   "name": "OBJECTID",
   "type": "esriFieldTypeOID",
   "alias": "OBJECTID",
   "domain": null
  },
  {
   "name": "Shape",
   "type": "esriFieldTypeGeometry",
   "alias": "Shape",
   "domain": null
  },
  {
   "name": "Name",
   "type": "esriFieldTypeString",
   "alias": "Name",
   "domain": null,
   "length": 50
  },
  {
   "name": "MinPS",
   "type": "esriFieldTypeDouble",
   "alias": "MinPS",
   "domain": null
  },
  {
   "name": "MaxPS",
   "type": "esriFieldTypeDouble",
   "alias": "MaxPS",
   "domain": null
  },
  {
   "name": "LowPS",
   "type": "esriFieldTypeDouble",
   "alias": "LowPS",
   "domain": null
  },
  {
   "name": "HighPS",
   "type": "esriFieldTypeDouble",
   "alias": "HighPS",
   "domain": null
  },
  {
   "name": "Category",
   "type": "esriFieldTypeInteger",
   "alias": "Category",
   "domain": {
    "type": "codedValue",
    "name": "MosaicCatalogItemCategoryDomain",
    "description": "Catalog item categories.",
    "codedValues": [
     {
      "name": "Unknown",
      "code": 0
     },
     {
      "name": "Primary",
      "code": 1
     },
     {
      "name": "Overview",
      "code": 2
     },
     {
      "name": "Unprocessed Overview",
      "code": 3
     },
     {
      "name": "Partial Overview",
      "code": 4
     },
     {
      "name": "Uploaded",
      "code": 253
     },
     {
      "name": "Incomplete",
      "code": 254
     },
     {
      "name": "Custom",
      "code": 255
     }
    ],
    "mergePolicy": "esriMPTDefaultValue",
    "splitPolicy": "esriSPTDefaultValue"
   }
  },
  {
   "name": "Tag",
   "type": "esriFieldTypeString",
   "alias": "Tag",
   "domain": null,
   "length": 20
  },
  {
   "name": "GroupName",
   "type": "esriFieldTypeString",
   "alias": "GroupName",
   "domain": null,
   "length": 50
  },
  {
   "name": "ProductName",
   "type": "esriFieldTypeString",
   "alias": "ProductName",
   "domain": null,
   "length": 50
  },
  {
   "name": "CenterX",
   "type": "esriFieldTypeDouble",
   "alias": "CenterX",
   "domain": null
  },
  {
   "name": "CenterY",
   "type": "esriFieldTypeDouble",
   "alias": "CenterY",
   "domain": null
  },
  {
   "name": "ZOrder",
   "type": "esriFieldTypeInteger",
   "alias": "ZOrder",
   "domain": null
  },
  {
   "name": "Shape_Length",
   "type": "esriFieldTypeDouble",
   "alias": "Shape_Length",
   "domain": null
  },
  {
   "name": "Shape_Area",
   "type": "esriFieldTypeDouble",
   "alias": "Shape_Area",
   "domain": null
  }
 ],
 "capabilities": "Catalog,Image,Metadata",
 "defaultMosaicMethod": "Northwest",
 "allowedMosaicMethods": "NorthWest,Center,LockRaster,ByAttribute,Nadir,Viewpoint,None",
 "sortField": "",
 "sortValue": null,
 "sortAscending": false,
 "mosaicOperator": "Last",
 "maxDownloadSizeLimit": 2048,
 "defaultCompressionQuality": 75,
 "defaultResamplingMethod": "Bilinear",
 "maxImageHeight": 4100,
 "maxImageWidth": 15000,
 "maxRecordCount": 1000,
 "maxDownloadImageCount": 20,
 "maxMosaicImageCount": 42,
 "allowRasterFunction": true,
 "rasterFunctionInfos": [
  {
   "name": "None",
   "description": "",
   "help": ""
  }
 ],
 "rasterTypeInfos": [
  {
   "name": "Raster Dataset",
   "description": "Supports all ArcGIS Raster Datasets",
   "help": ""
  }
 ],
 "mensurationCapabilities": "None",
 "hasHistograms": true,
 "hasColormap": false,
 "hasRasterAttributeTable": false,
 "minScale": 0,
 "maxScale": 0,
 "exportTilesAllowed": false,
 "supportsStatistics": true,
 "supportsAdvancedQueries": true,
 "editFieldsInfo": null,
 "ownershipBasedAccessControlForRasters": null,
 "allowComputeTiePoints": false,
 "useStandardizedQueries": true,
 "advancedQueryCapabilities": {
  "useStandardizedQueries": true,
  "supportsStatistics": true,
  "supportsOrderBy": true,
  "supportsDistinct": true,
  "supportsPagination": true
 },
 "spatialReference": {
  "wkt2": "PROJCRS[\"NAD_1983_HARN_StatePlane_Virginia_South_FIPS_4502\",BASEGEOGCRS[\"GCS_North_American_1983_HARN\",DATUM[\"D_North_American_1983_HARN\",ELLIPSOID[\"GRS_1980\",6378137.0,298.257222101,LENGTHUNIT[\"Meter\",1.0]]],PRIMEM[\"Greenwich\",0.0,ANGLEUNIT[\"Degree\",0.0174532925199433]],CS[ellipsoidal,2],AXIS[\"Latitude (lat)\",north,ORDER[1]],AXIS[\"Longitude (lon)\",east,ORDER[2]],ANGLEUNIT[\"Degree\",0.0174532925199433]],CONVERSION[\"Lambert_Conformal_Conic\",METHOD[\"Lambert_Conformal_Conic\"],PARAMETER[\"false_easting\",11482916.66666667,LENGTHUNIT[\"Foot_US\",0.3048006096012192]],PARAMETER[\"false_northing\",3280833.333333333,LENGTHUNIT[\"Foot_US\",0.3048006096012192]],PARAMETER[\"central_meridian\",-78.5,ANGLEUNIT[\"Degree\",0.0174532925199433]],PARAMETER[\"standard_parallel_1\",36.76666666666667,ANGLEUNIT[\"Degree\",0.0174532925199433]],PARAMETER[\"standard_parallel_2\",37.96666666666667,ANGLEUNIT[\"Degree\",0.0174532925199433]],PARAMETER[\"latitude_of_origin\",36.33333333333334,ANGLEUNIT[\"Degree\",0.0174532925199433]]],CS[Cartesian,2],AXIS[\"Easting (X)\",east,ORDER[1]],AXIS[\"Northing (Y)\",north,ORDER[2]],LENGTHUNIT[\"Foot_US\",0.3048006096012192]]",
  "wkt": "PROJCS[\"NAD_1983_HARN_StatePlane_Virginia_South_FIPS_4502\",GEOGCS[\"GCS_North_American_1983_HARN\",DATUM[\"D_North_American_1983_HARN\",SPHEROID[\"GRS_1980\",6378137.0,298.257222101]],PRIMEM[\"Greenwich\",0.0],UNIT[\"Degree\",0.0174532925199433]],PROJECTION[\"Lambert_Conformal_Conic\"],PARAMETER[\"false_easting\",11482916.66666667],PARAMETER[\"false_northing\",3280833.333333333],PARAMETER[\"central_meridian\",-78.5],PARAMETER[\"standard_parallel_1\",36.76666666666667],PARAMETER[\"standard_parallel_2\",37.96666666666667],PARAMETER[\"latitude_of_origin\",36.33333333333334],UNIT[\"Foot_US\",0.3048006096012192]]"
 },
 "resampling": false
}
