{
 "currentVersion": 10.91,
 "serviceDescription": "Historical/Southeastern_Virginia_Map_1859",
 "name": "Historical/Southeastern_Virginia_Map_1859",
 "description": "",
 "extent": {
  "xmin": 1.205051130429247E7,
  "ymin": 3319823.923725471,
  "xmax": 1.229121455836793E7,
  "ymax": 3570218.2128914064,
  "spatialReference": {
   "wkid": 2925,
   "latestWkid": 2925
  }
 },
 "initialExtent": {
  "xmin": 1.205051130429247E7,
  "ymin": 3319823.923725471,
  "xmax": 1.229121455836793E7,
  "ymax": 3570218.2128914064,
  "spatialReference": {
   "wkid": 2925,
   "latestWkid": 2925
  }
 },
 "fullExtent": {
  "xmin": 1.205051130429247E7,
  "ymin": 3319823.923725471,
  "xmax": 1.229121455836793E7,
  "ymax": 3570218.2128914064,
  "spatialReference": {
   "wkid": 2925,
   "latestWkid": 2925
  }
 },
 "hasMultidimensions": false,
 "pixelSizeX": 10.21183887299903,
 "pixelSizeY": 10.211838872999,
 "datasetFormat": "TIFF",
 "uncompressedSize": 3467765520,
 "blockWidth": 128,
 "blockHeight": 128,
 "compressionType": "LZW",
 "bandNames": [
  "Band_1",
  "Band_2",
  "Band_3"
 ],
 "allowCopy": true,
 "allowAnalysis": true,
 "bandCount": 3,
 "noDataValue": 65535,
 "noDataValues": [
  65535,
  65535,
  65535
 ],
 "pixelType": "U16",
 "minPixelSize": 0,
 "maxPixelSize": 0,
 "copyrightText": "",
 "serviceDataType": "esriImageServiceDataTypeGeneric",
 "serviceSourceType": "esriImageServiceSourceTypeDataset",
 "minValues": [
  0,
  0,
  0
 ],
 "maxValues": [
  255,
  255,
  255
 ],
 "meanValues": [
  205.47785272391,
  185.80011632052,
  158.66409808265
 ],
 "stdvValues": [
  52.522083404341,
  43.433377677934,
  32.639615662315
 ],
 "objectIdField": "",
 "fields": [],
 "capabilities": "Image,Metadata,Mensuration",
 "defaultMosaicMethod": "Center",
 "allowedMosaicMethods": "",
 "sortField": "",
 "sortValue": null,
 "sortAscending": true,
 "mosaicOperator": "First",
 "defaultCompressionQuality": 75,
 "defaultResamplingMethod": "Bilinear",
 "maxImageHeight": 4100,
 "maxImageWidth": 15000,
 "allowRasterFunction": true,
 "rasterFunctionInfos": [
  {
   "name": "None",
   "description": "",
   "help": ""
  }
 ],
 "rasterTypeInfos": [
  {
   "name": "Raster Dataset",
   "description": "Supports all ArcGIS Raster Datasets",
   "help": ""
  }
 ],
 "mensurationCapabilities": "Basic",
 "hasHistograms": true,
 "hasColormap": false,
 "hasRasterAttributeTable": false,
 "minScale": 0,
 "maxScale": 0,
 "exportTilesAllowed": false,
 "supportsStatistics": false,
 "supportsAdvancedQueries": false,
 "editFieldsInfo": null,
 "ownershipBasedAccessControlForRasters": null,
 "allowComputeTiePoints": false,
 "useStandardizedQueries": true,
 "advancedQueryCapabilities": {
  "useStandardizedQueries": true,
  "supportsStatistics": false,
  "supportsOrderBy": false,
  "supportsDistinct": false,
  "supportsPagination": false
 },
 "spatialReference": {
  "wkid": 2925,
  "latestWkid": 2925
 }
}
