<?xml version="1.0" encoding="UTF-8" standalone="no"?>
<metadata xml:lang="en">
<Esri>
<CreaDate>20240320</CreaDate>
<CreaTime>08581200</CreaTime>
<ArcGISFormat>1.0</ArcGISFormat>
<SyncOnce>FALSE</SyncOnce>
<DataProperties>
<lineage>
<Process Date="20240320" Name="Raster Calculator" Time="085812" ToolSource="c:\program files\arcgis\pro\Resources\ArcToolbox\toolboxes\Spatial Analyst Tools.tbx\RasterCalculator">RasterCalculator "F:\GIS\Online Flood Mapping\Feb2024 Flood Rasters.gdb\PR10SLR1p5"-"Combined_DEM" "F:\GIS\Online Flood Mapping\Feb2024 Flood Rasters.gdb\FD10SLR1p5"</Process>
<Process Date="20240422" Time="115004" ToolSource="c:\program files\arcgis\pro\Resources\ArcToolbox\Toolboxes\Data Management Tools.tbx\CopyMultiple">CopyMultiple "'F:\GIS\Online Flood Mapping\Feb2024 Flood Rasters.gdb\FD10SLR1p5' RasterDataset" "F:\GIS\Online Flood Mapping\February 2024 Flood Rasters.gdb" FD10SLR1p5 "FD10SLR1p5 RasterDataset FD10SLR1p5 #"</Process>
<Process Date="20240422" Time="145515" ToolSource="c:\program files\arcgis\pro\Resources\ArcToolbox\toolboxes\Data Management Tools.tbx\Mosaic">Mosaic North\FD10SLR1p5;South\FD10SLR1p5S "F:\GIS\Online Flood Mapping\February 2024 Flood Rasters.gdb\FD10SLR1p5" Last First # # NONE 0 None</Process>
<Process Date="20240508" Time="153443" ToolSource="e:\program files\arcgis\pro\Resources\ArcToolbox\toolboxes\Data Management Tools.tbx\CopyRaster">CopyRaster FD10SLR1p5 \\vbgov.com\dfs1\Enterprise\AGS_Staging\Image_Server\Flooding\Recurrent_Flooding.gdb\FD10SLR1p5 # # # NONE NONE # NONE NONE "Esri Grid format" NONE CURRENT_SLICE NO_TRANSPOSE</Process>
</lineage>
<itemProps>
<itemName Sync="TRUE">FD10SLR1p5</itemName>
<imsContentType Sync="TRUE">002</imsContentType>
<nativeExtBox>
<westBL Sync="TRUE">12144995.978486</westBL>
<eastBL Sync="TRUE">12256109.978486</eastBL>
<southBL Sync="TRUE">3367881.831136</southBL>
<northBL Sync="TRUE">3508263.831136</northBL>
<exTypeCode Sync="TRUE">1</exTypeCode>
</nativeExtBox>
<itemLocation>
<linkage Sync="TRUE">file://\\vbgov.com\dfs1\Enterprise\AGS_Staging\Image_Server\Flooding\Recurrent_Flooding.gdb</linkage>
<protocol Sync="TRUE">Local Area Network</protocol>
</itemLocation>
</itemProps>
<coordRef>
<type Sync="TRUE">Projected</type>
<geogcsn Sync="TRUE">GCS_North_American_1983</geogcsn>
<csUnits Sync="TRUE">Linear Unit: US_survey_foot (0.304801)</csUnits>
<projcsn Sync="TRUE">NAD83_Virginia_South_ftUS</projcsn>
<peXml Sync="TRUE">&lt;ProjectedCoordinateSystem xsi:type='typens:ProjectedCoordinateSystem' xmlns:xsi='http://www.w3.org/2001/XMLSchema-instance' xmlns:xs='http://www.w3.org/2001/XMLSchema' xmlns:typens='http://www.esri.com/schemas/ArcGIS/3.3.0'&gt;&lt;WKT&gt;PROJCS[&amp;quot;NAD83_Virginia_South_ftUS&amp;quot;,GEOGCS[&amp;quot;GCS_North_American_1983&amp;quot;,DATUM[&amp;quot;North_American_Datum_1983&amp;quot;,SPHEROID[&amp;quot;GRS_1980&amp;quot;,6378137.0,298.257222101]],PRIMEM[&amp;quot;Greenwich&amp;quot;,0.0],UNIT[&amp;quot;Degree&amp;quot;,0.0174532925199433]],PROJECTION[&amp;quot;Lambert_Conformal_Conic_2SP&amp;quot;],PARAMETER[&amp;quot;False_Easting&amp;quot;,11482916.667],PARAMETER[&amp;quot;False_Northing&amp;quot;,3280833.333],PARAMETER[&amp;quot;Central_Meridian&amp;quot;,-78.5],PARAMETER[&amp;quot;Standard_Parallel_1&amp;quot;,36.7666666666667],PARAMETER[&amp;quot;Standard_Parallel_2&amp;quot;,37.9666666666667],PARAMETER[&amp;quot;Scale_Factor&amp;quot;,1.0],PARAMETER[&amp;quot;Latitude_Of_Origin&amp;quot;,36.3333333333333],UNIT[&amp;quot;US_survey_foot&amp;quot;,0.3048006096012192]]&lt;/WKT&gt;&lt;XOrigin&gt;-111140600&lt;/XOrigin&gt;&lt;YOrigin&gt;-91532100&lt;/YOrigin&gt;&lt;XYScale&gt;36727036.750856541&lt;/XYScale&gt;&lt;ZOrigin&gt;-100000&lt;/ZOrigin&gt;&lt;ZScale&gt;10000&lt;/ZScale&gt;&lt;MOrigin&gt;-100000&lt;/MOrigin&gt;&lt;MScale&gt;10000&lt;/MScale&gt;&lt;XYTolerance&gt;0.0032808333333333331&lt;/XYTolerance&gt;&lt;ZTolerance&gt;0.001&lt;/ZTolerance&gt;&lt;MTolerance&gt;0.001&lt;/MTolerance&gt;&lt;HighPrecision&gt;true&lt;/HighPrecision&gt;&lt;/ProjectedCoordinateSystem&gt;</peXml>
</coordRef>
</DataProperties>
<SyncDate>20240508</SyncDate>
<SyncTime>15343000</SyncTime>
<ModDate>20240508</ModDate>
<ModTime>15343000</ModTime>
</Esri>
<dataIdInfo>
<envirDesc Sync="TRUE">Microsoft Windows 10 Version 10.0 (Build 19045) ; Esri ArcGIS 13.3.0.52636</envirDesc>
<dataLang>
<languageCode Sync="TRUE" value="eng"/>
<countryCode Sync="TRUE" value="USA"/>
</dataLang>
<idCitation>
<resTitle Sync="TRUE">FD10SLR1p5</resTitle>
<presForm>
<PresFormCd Sync="TRUE" value="011"/>
</presForm>
</idCitation>
<spatRpType>
<SpatRepTypCd Sync="TRUE" value="002"/>
</spatRpType>
<dataExt>
<geoEle>
<GeoBndBox esriExtentType="search">
<exTypeCode Sync="TRUE">1</exTypeCode>
<westBL Sync="TRUE">-76.245939</westBL>
<eastBL Sync="TRUE">-75.854443</eastBL>
<northBL Sync="TRUE">36.936170</northBL>
<southBL Sync="TRUE">36.542809</southBL>
</GeoBndBox>
</geoEle>
</dataExt>
<idAbs>FD10SLR1p5 – 10-yr with 1.5 ft. Disclaimer: The data displayed in this application are just computer models that depict certain design storms for illustrative purposes only and cannot and should not be relied upon as accurately predicting specific impacts of actual future storm or flooding events.
</idAbs>
<idPurp> FD10SLR1p5 – 10-yr with 1.5 ft. </idPurp>
<idCredit>© City of Virginia Beach</idCredit>
<resConst>
<Consts>
<useLimit>FD10SLR3 – 10-yr with 3 ft. SLR. Disclaimer: The data displayed in this application are just computer models that depict certain design storms for illustrative purposes only and cannot and should not be relied upon as accurately predicting specific impacts of actual future storm or flooding events</useLimit>
</Consts>
</resConst>
<searchKeys>
<keyword/>
</searchKeys>
</dataIdInfo>
<mdLang>
<languageCode Sync="TRUE" value="eng"/>
<countryCode Sync="TRUE" value="USA"/>
</mdLang>
<distInfo>
<distFormat>
<formatName Sync="TRUE">File Geodatabase Raster Dataset</formatName>
</distFormat>
</distInfo>
<mdHrLv>
<ScopeCd Sync="TRUE" value="005"/>
</mdHrLv>
<mdHrLvName Sync="TRUE">dataset</mdHrLvName>
<refSysInfo>
<RefSystem>
<refSysID>
<identCode Sync="TRUE" code="0"/>
</refSysID>
</RefSystem>
</refSysInfo>
<spdoinfo>
<rastinfo>
<rasttype Sync="TRUE">Pixel</rasttype>
<rowcount Sync="TRUE">23397</rowcount>
<colcount Sync="TRUE">18519</colcount>
<rastxsz Sync="TRUE">6.000000</rastxsz>
<rastysz Sync="TRUE">6.000000</rastysz>
<rastbpp Sync="TRUE">32</rastbpp>
<vrtcount Sync="TRUE">1</vrtcount>
<rastorig Sync="TRUE">Upper Left</rastorig>
<rastcmap Sync="TRUE">FALSE</rastcmap>
<rastcomp Sync="TRUE">LZ77</rastcomp>
<rastband Sync="TRUE">1</rastband>
<rastdtyp Sync="TRUE">pixel codes</rastdtyp>
<rastifor Sync="TRUE">FGDBR</rastifor>
<rastplyr Sync="TRUE">TRUE</rastplyr>
</rastinfo>
</spdoinfo>
<spref>
<horizsys>
<planar>
<planci>
<plance Sync="TRUE">row and column</plance>
<coordrep>
<absres Sync="TRUE">6.000000</absres>
<ordres Sync="TRUE">6.000000</ordres>
</coordrep>
</planci>
</planar>
</horizsys>
</spref>
<mdDateSt Sync="TRUE">20240508</mdDateSt>
</metadata>
