{
 "currentVersion": 11.5,
 "serviceDescription": "FD100Base \u2013 100-yr base (no SLR). Disclaimer: The data displayed in this application are just computer models that depict certain design storms for illustrative purposes only and cannot and should not be relied upon as accurately predicting specific impacts of actual future storm or flooding events.\n",
 "name": "Flooding/FD100Base",
 "description": "FD100Base \u2013 100-yr base (no SLR). Disclaimer: The data displayed in this application are just computer models that depict certain design storms for illustrative purposes only and cannot and should not be relied upon as accurately predicting specific impacts of actual future storm or flooding events.\n",
 "extent": {
  "xmin": 1.2144995978486015E7,
  "ymin": 3367881.8311364204,
  "xmax": 1.2256109978486015E7,
  "ymax": 3508263.8311364204,
  "spatialReference": {
   "wkid": 102747,
   "latestWkid": 2284
  }
 },
 "initialExtent": {
  "xmin": 1.2144995978486015E7,
  "ymin": 3367881.8311364204,
  "xmax": 1.2256109978486015E7,
  "ymax": 3508263.8311364204,
  "spatialReference": {
   "wkid": 102747,
   "latestWkid": 2284
  }
 },
 "fullExtent": {
  "xmin": 1.2144995978486015E7,
  "ymin": 3367881.8311364204,
  "xmax": 1.2256109978486015E7,
  "ymax": 3508263.8311364204,
  "spatialReference": {
   "wkid": 102747,
   "latestWkid": 2284
  }
 },
 "sortableFields": "",
 "bandCount": 1,
 "pixelType": "F32",
 "minValues": [
  -139.0679473876953
 ],
 "maxValues": [
  46.94154739379883
 ],
 "meanValues": [
  -1.108558074634653
 ],
 "stdvValues": [
  5.085379941946929
 ],
 "serviceProperties": "Center<\/MosaicMethod>First<\/MosaicOperator>true<\/SortAscending><\/LockImageID><\/TileOrderField>0<\/TileOrderBase>0.000000<\/AvgImageSpacingX>0.000000<\/AvgImageSpacingY>0.0<\/ViewPointX>0.0<\/ViewPointY>0.0<\/ViewPointDefShiftX>0.0<\/ViewPointDefShiftY>None<\/CompressionMethod>75<\/CompressionQuality>0.010000<\/CompressionTolerance>Bilinear<\/SamplingMethod><\/ImageServiceProperties><\/ImageServer>",
 "allowedFields": "",
 "hasMultidimensions": false,
 "pixelSizeX": 6,
 "pixelSizeY": 6,
 "meanPixelSize": 1.8288036576073154,
 "datasetFormat": "FGDBR",
 "uncompressedSize": 1733156172,
 "blockWidth": 128,
 "blockHeight": 128,
 "compressionType": "LZ77",
 "bandNames": [
  "Band_1"
 ],
 "allowCopy": true,
 "allowAnalysis": true,
 "itemAccess": false,
 "inspectionCapabilities": "",
 "minPixelSize": 0,
 "maxPixelSize": 0,
 "copyrightText": "© City of Virginia Beach",
 "serviceDataType": "esriImageServiceDataTypeGeneric",
 "serviceSourceType": "esriImageServiceSourceTypeDataset",
 "objectIdField": "",
 "fields": [],
 "capabilities": "Mensuration,Image,Metadata",
 "defaultMosaicMethod": "Center",
 "allowedMosaicMethods": "",
 "sortField": "",
 "sortValue": null,
 "sortAscending": true,
 "mosaicOperator": "First",
 "defaultCompressionQuality": 75,
 "defaultResamplingMethod": "Bilinear",
 "maxImageHeight": 4100,
 "maxImageWidth": 15000,
 "allowRasterFunction": true,
 "rasterFunctionInfos": [
  {
   "name": "VB Flood Color Ramp",
   "description": "VB Flood Color Ramp",
   "help": ""
  },
  {
   "name": "None",
   "description": "",
   "help": ""
  }
 ],
 "rasterTypeInfos": [
  {
   "name": "Raster Dataset",
   "description": "Supports all ArcGIS Raster Datasets",
   "help": ""
  }
 ],
 "mensurationCapabilities": "Basic",
 "hasHistograms": true,
 "hasColormap": false,
 "hasRasterAttributeTable": false,
 "minScale": 0,
 "maxScale": 0,
 "exportTilesAllowed": false,
 "supportsStatistics": false,
 "supportsAdvancedQueries": false,
 "editFieldsInfo": null,
 "ownershipBasedAccessControlForRasters": null,
 "allowComputeTiePoints": false,
 "useStandardizedQueries": true,
 "advancedQueryCapabilities": {
  "useStandardizedQueries": true,
  "supportsStatistics": false,
  "supportsOrderBy": false,
  "supportsDistinct": false,
  "supportsPagination": false
 },
 "spatialReference": {
  "wkid": 102747,
  "latestWkid": 2284
 },
 "resampling": false
}
