Imagery was Captured on February 24, 2026 at an altitude of of 200'. Horizontal accuracy cannot be guaranteed and does not meet the requirements for survey quality data; images are the property of the City of Virginia Beach Public Works Operations ©2024. <\/span><\/p><\/p><\/div><\/div><\/div>",
"name": "Drone_Imagery/Parliament_Drive_20260224",
"description": "
Imagery was Captured on February 24, 2026 at an altitude of of 200'. Horizontal accuracy cannot be guaranteed and does not meet the requirements for survey quality data; images are the property of the City of Virginia Beach Public Works Operations ©2024. <\/span><\/p><\/p><\/div><\/div><\/div>",
"extent": {
"xmin": 394860.7557773822,
"ymin": 4077577.1846838165,
"xmax": 395310.9404850238,
"ymax": 4077839.792429941,
"spatialReference": {
"wkid": 32618,
"latestWkid": 32618,
"vcsWkid": 5773,
"latestVcsWkid": 5773
}
},
"initialExtent": {
"xmin": 394860.7557773822,
"ymin": 4077577.1846838165,
"xmax": 395310.9404850238,
"ymax": 4077839.792429941,
"spatialReference": {
"wkid": 32618,
"latestWkid": 32618,
"vcsWkid": 5773,
"latestVcsWkid": 5773
}
},
"fullExtent": {
"xmin": 394860.7557773822,
"ymin": 4077577.1846838165,
"xmax": 395310.9404850238,
"ymax": 4077839.792429941,
"spatialReference": {
"wkid": 32618,
"latestWkid": 32618,
"vcsWkid": 5773,
"latestVcsWkid": 5773
}
},
"sortableFields": "",
"heightModelInfo": {
"heightModel": "gravity_related_height",
"vertCRS": "EGM96_height",
"heightUnit": "meter"
},
"bandCount": 3,
"pixelType": "U8",
"minValues": [
1,
1,
1
],
"maxValues": [
254,
254,
254
],
"meanValues": [
139.14423666896,
134.41783272897,
121.35977917345
],
"stdvValues": [
59.73836300857,
55.159357312973,
52.954772383892
],
"serviceProperties": "Center<\/MosaicMethod>First<\/MosaicOperator>true<\/SortAscending><\/LockImageID><\/TileOrderField>0<\/TileOrderBase>0.000000<\/AvgImageSpacingX>0.000000<\/AvgImageSpacingY>0.0<\/ViewPointX>0.0<\/ViewPointY>0.0<\/ViewPointDefShiftX>0.0<\/ViewPointDefShiftY>None<\/CompressionMethod>75<\/CompressionQuality>0.010000<\/CompressionTolerance>Bilinear<\/SamplingMethod><\/ImageServiceProperties><\/ImageServer>",
"allowedFields": "",
"hasMultidimensions": false,
"pixelSizeX": 0.018757696151733397,
"pixelSizeY": 0.018757696151733397,
"meanPixelSize": 0.018757696151733397,
"datasetFormat": "TIFF",
"uncompressedSize": 1008000000,
"blockWidth": 256,
"blockHeight": 256,
"compressionType": "LZW",
"bandNames": [
"Red",
"Green",
"Blue"
],
"allowCopy": true,
"allowAnalysis": true,
"itemAccess": false,
"inspectionCapabilities": "",
"noDataValue": 0,
"noDataValues": [
0,
0,
0
],
"minPixelSize": 0,
"maxPixelSize": 0,
"copyrightText": "City of Virginia Beach Public Works Operations ©2026",
"serviceDataType": "esriImageServiceDataTypeRGB",
"serviceSourceType": "esriImageServiceSourceTypeDataset",
"objectIdField": "",
"fields": [],
"capabilities": "Mensuration,Image,Metadata",
"defaultMosaicMethod": "Center",
"allowedMosaicMethods": "",
"sortField": "",
"sortValue": null,
"sortAscending": true,
"mosaicOperator": "First",
"defaultCompressionQuality": 75,
"defaultResamplingMethod": "Bilinear",
"maxImageHeight": 4100,
"maxImageWidth": 15000,
"allowRasterFunction": true,
"rasterFunctionInfos": [
{
"name": "None",
"description": "",
"help": ""
}
],
"rasterTypeInfos": [
{
"name": "Raster Dataset",
"description": "Supports all ArcGIS Raster Datasets",
"help": ""
}
],
"mensurationCapabilities": "Basic",
"hasHistograms": true,
"hasColormap": false,
"hasRasterAttributeTable": false,
"minScale": 0,
"maxScale": 0,
"exportTilesAllowed": false,
"supportsStatistics": false,
"supportsAdvancedQueries": false,
"editFieldsInfo": null,
"ownershipBasedAccessControlForRasters": null,
"allowComputeTiePoints": false,
"useStandardizedQueries": true,
"advancedQueryCapabilities": {
"useStandardizedQueries": true,
"supportsStatistics": false,
"supportsOrderBy": false,
"supportsDistinct": false,
"supportsPagination": false
},
"spatialReference": {
"wkid": 32618,
"latestWkid": 32618,
"vcsWkid": 5773,
"latestVcsWkid": 5773
},
"resampling": false
}