Imagery was Captured on November 2, 2023 at a height of 190'. Horizontal accuracy cannot be guaranteed and does not meet the requirements for survey quality data; images are the property of the City of Virginia Beach Public Works Operations ©2023. <\/span><\/p><\/div><\/div><\/div>",
"name": "Drone_Imagery/DAM_NECK_YARD_20231102",
"description": "",
"extent": {
"xmin": 402417.65470196435,
"ymin": 4070666.593710648,
"xmax": 403204.0468330589,
"ymax": 4071465.9694615286,
"spatialReference": {
"wkid": 32618,
"latestWkid": 32618,
"vcsWkid": 5773,
"latestVcsWkid": 5773
}
},
"initialExtent": {
"xmin": 402417.65470196435,
"ymin": 4070666.593710648,
"xmax": 403204.0468330589,
"ymax": 4071465.9694615286,
"spatialReference": {
"wkid": 32618,
"latestWkid": 32618,
"vcsWkid": 5773,
"latestVcsWkid": 5773
}
},
"fullExtent": {
"xmin": 402417.65470196435,
"ymin": 4070666.593710648,
"xmax": 403204.0468330589,
"ymax": 4071465.9694615286,
"spatialReference": {
"wkid": 32618,
"latestWkid": 32618,
"vcsWkid": 5773,
"latestVcsWkid": 5773
}
},
"sortableFields": "",
"heightModelInfo": {
"heightModel": "gravity_related_height",
"vertCRS": "EGM96_Geoid",
"heightUnit": "meter"
},
"bandCount": 3,
"pixelType": "U8",
"minValues": [
1,
1,
1
],
"maxValues": [
255,
255,
255
],
"meanValues": [
122.62596724882,
124.93605682792,
115.48143972367
],
"stdvValues": [
66.862351859803,
60.600727624337,
62.068182866905
],
"serviceProperties": "Center<\/MosaicMethod>First<\/MosaicOperator>true<\/SortAscending><\/LockImageID><\/TileOrderField>0<\/TileOrderBase>0.000000<\/AvgImageSpacingX>0.000000<\/AvgImageSpacingY>0.0<\/ViewPointX>0.0<\/ViewPointY>0.0<\/ViewPointDefShiftX>0.0<\/ViewPointDefShiftY>None<\/CompressionMethod>75<\/CompressionQuality>0.010000<\/CompressionTolerance>Bilinear<\/SamplingMethod><\/ImageServiceProperties><\/ImageServer>",
"allowedFields": "",
"hasMultidimensions": false,
"pixelSizeX": 0.015493579696873863,
"pixelSizeY": 0.01549357969687732,
"meanPixelSize": 0.015493579696875592,
"datasetFormat": "TIFF",
"uncompressedSize": 7856115192,
"blockWidth": 256,
"blockHeight": 256,
"compressionType": "LZW",
"bandNames": [
"Red",
"Green",
"Blue"
],
"allowCopy": true,
"allowAnalysis": true,
"itemAccess": false,
"inspectionCapabilities": "",
"noDataValue": 0,
"noDataValues": [
0,
0,
0
],
"minPixelSize": 0,
"maxPixelSize": 0,
"copyrightText": "City of Virginia Beach Public Works Operations ©2023",
"serviceDataType": "esriImageServiceDataTypeRGB",
"serviceSourceType": "esriImageServiceSourceTypeDataset",
"objectIdField": "",
"fields": [],
"capabilities": "Image,Metadata,Mensuration",
"defaultMosaicMethod": "Center",
"allowedMosaicMethods": "",
"sortField": "",
"sortValue": null,
"sortAscending": true,
"mosaicOperator": "First",
"defaultCompressionQuality": 75,
"defaultResamplingMethod": "Bilinear",
"maxImageHeight": 4100,
"maxImageWidth": 15000,
"allowRasterFunction": true,
"rasterFunctionInfos": [
{
"name": "None",
"description": "Make a Raster or Raster Dataset into a Function Raster Dataset.",
"help": ""
}
],
"rasterTypeInfos": [
{
"name": "Raster Dataset",
"description": "Supports all ArcGIS Raster Datasets",
"help": ""
}
],
"mensurationCapabilities": "Basic",
"hasHistograms": true,
"hasColormap": false,
"hasRasterAttributeTable": false,
"minScale": 0,
"maxScale": 0,
"exportTilesAllowed": false,
"supportsStatistics": false,
"supportsAdvancedQueries": false,
"editFieldsInfo": null,
"ownershipBasedAccessControlForRasters": null,
"allowComputeTiePoints": false,
"useStandardizedQueries": true,
"advancedQueryCapabilities": {
"useStandardizedQueries": true,
"supportsStatistics": false,
"supportsOrderBy": false,
"supportsDistinct": false,
"supportsPagination": false
},
"spatialReference": {
"wkid": 32618,
"latestWkid": 32618,
"vcsWkid": 5773,
"latestVcsWkid": 5773
}
}