Imagery was Captured on October 4, 2023 at a height of 250'. Horizontal accuracy cannot be guaranteed and does not meet the requirements for survey quality data; images are the property of the City of Virginia Beach Public Works Operations ©2023. <\/span><\/p><\/div><\/div><\/div>",
"name": "Drone_Imagery/BOW_CREEK_20231004",
"description": "",
"extent": {
"xmin": 402165.36571587477,
"ymin": 4074831.966758426,
"xmax": 403713.9892704272,
"ymax": 4076116.503740334,
"spatialReference": {
"wkid": 32618,
"latestWkid": 32618,
"vcsWkid": 5773,
"latestVcsWkid": 5773
}
},
"initialExtent": {
"xmin": 402165.36571587477,
"ymin": 4074831.966758426,
"xmax": 403713.9892704272,
"ymax": 4076116.503740334,
"spatialReference": {
"wkid": 32618,
"latestWkid": 32618,
"vcsWkid": 5773,
"latestVcsWkid": 5773
}
},
"fullExtent": {
"xmin": 402165.36571587477,
"ymin": 4074831.966758426,
"xmax": 403713.9892704272,
"ymax": 4076116.503740334,
"spatialReference": {
"wkid": 32618,
"latestWkid": 32618,
"vcsWkid": 5773,
"latestVcsWkid": 5773
}
},
"sortableFields": "",
"heightModelInfo": {
"heightModel": "gravity_related_height",
"vertCRS": "EGM96_Geoid",
"heightUnit": "meter"
},
"bandCount": 3,
"pixelType": "U8",
"minValues": [
1,
1,
1
],
"maxValues": [
255,
255,
255
],
"meanValues": [
116.92105228281,
122.93437522346,
94.175227536802
],
"stdvValues": [
61.355720037166,
54.176846904327,
55.008701503205
],
"serviceProperties": "Center<\/MosaicMethod>First<\/MosaicOperator>true<\/SortAscending><\/LockImageID><\/TileOrderField>0<\/TileOrderBase>0.000000<\/AvgImageSpacingX>0.000000<\/AvgImageSpacingY>0.0<\/ViewPointX>0.0<\/ViewPointY>0.0<\/ViewPointDefShiftX>0.0<\/ViewPointDefShiftY>None<\/CompressionMethod>75<\/CompressionQuality>0.010000<\/CompressionTolerance>Bilinear<\/SamplingMethod><\/ImageServiceProperties><\/ImageServer>",
"allowedFields": "",
"hasMultidimensions": false,
"pixelSizeX": 0.02125274204444316,
"pixelSizeY": 0.02125274204444233,
"meanPixelSize": 0.021252742044442746,
"datasetFormat": "TIFF",
"uncompressedSize": 13212463041,
"blockWidth": 256,
"blockHeight": 256,
"compressionType": "LZW",
"bandNames": [
"Red",
"Green",
"Blue"
],
"allowCopy": true,
"allowAnalysis": true,
"itemAccess": false,
"inspectionCapabilities": "",
"noDataValue": 0,
"noDataValues": [
0,
0,
0
],
"minPixelSize": 0,
"maxPixelSize": 0,
"copyrightText": "City of Virginia Beach Public Works Operations ©2023",
"serviceDataType": "esriImageServiceDataTypeRGB",
"serviceSourceType": "esriImageServiceSourceTypeDataset",
"objectIdField": "",
"fields": [],
"capabilities": "Image,Metadata,Mensuration",
"defaultMosaicMethod": "Center",
"allowedMosaicMethods": "",
"sortField": "",
"sortValue": null,
"sortAscending": true,
"mosaicOperator": "First",
"defaultCompressionQuality": 75,
"defaultResamplingMethod": "Bilinear",
"maxImageHeight": 4100,
"maxImageWidth": 15000,
"allowRasterFunction": true,
"rasterFunctionInfos": [
{
"name": "None",
"description": "Make a Raster or Raster Dataset into a Function Raster Dataset.",
"help": ""
}
],
"rasterTypeInfos": [
{
"name": "Raster Dataset",
"description": "Supports all ArcGIS Raster Datasets",
"help": ""
}
],
"mensurationCapabilities": "Basic",
"hasHistograms": true,
"hasColormap": false,
"hasRasterAttributeTable": false,
"minScale": 0,
"maxScale": 0,
"exportTilesAllowed": false,
"supportsStatistics": false,
"supportsAdvancedQueries": false,
"editFieldsInfo": null,
"ownershipBasedAccessControlForRasters": null,
"allowComputeTiePoints": false,
"useStandardizedQueries": true,
"advancedQueryCapabilities": {
"useStandardizedQueries": true,
"supportsStatistics": false,
"supportsOrderBy": false,
"supportsDistinct": false,
"supportsPagination": false
},
"spatialReference": {
"wkid": 32618,
"latestWkid": 32618,
"vcsWkid": 5773,
"latestVcsWkid": 5773
}
}